BEGIN:VCALENDAR
VERSION:2.0
PRODID:-//ChamberMaster//Event Calendar 2.0//EN
METHOD:PUBLISH
X-PUBLISHED-TTL:P3D
REFRESH-INTERVAL:P3D
CALSCALE:GREGORIAN
BEGIN:VEVENT
DTSTART;VALUE=DATE:20220506
DTEND;VALUE=DATE:20220507
TRANSP:TRANSPARENT
X-MICROSOFT-CDO-ALLDAYEVENT:TRUE
SUMMARY:1st Annual "Their Second Home" Gala Ball
DESCRIPTION:Anthony Adams House is organizing a fundraiser to assist with ending youth homelessness. Our organization's mission is to provide a nurturing\, stable\, home like environment for Homeless and Runaway Youth between the ages of 13-18. Anthony Adams House will be holding their 1st Annual "Their Second Home" Gala Ball. The purpose of this event is to bring awareness to youth homeless and raise funds for programs and staff. The organization is honored that world famous boxing icon Sugar Ray Leonard has agreed to assist with our event and will be our Keynote Speaker for the evening.
X-ALT-DESC;FMTTYPE=text/html:Anthony Adams House is organizing a fundraiser to assist with ending youth homelessness. Our organization&rsquo\;s mission is to provide a nurturing\, stable\, home like environment for Homeless and Runaway Youth between the ages of 13-18.&nbsp\;Anthony Adams House will be holding their 1<sup>st</sup> Annual &ldquo\;Their Second Home&rdquo\; Gala Ball. The purpose of this event is to bring awareness to youth homeless and raise funds for programs and staff. The organization is honored that world famous boxing icon <strong>Sugar Ray Leonard</strong> has agreed to assist with our event and will be our Keynote Speaker for the evening.<br />\n&nbsp\;
LOCATION:Blue Chip Casino 777 Blue Chip Drive Michigan City IN 46360
UID:e.897.4493
SEQUENCE:3
DTSTAMP:20260424T225514Z
URL:https://members.crossroadschamber.org/events/details/1st-annual-their-second-home-gala-ball-4493
END:VEVENT

END:VCALENDAR
