BEGIN:VCALENDAR
VERSION:2.0
PRODID:-//ChamberMaster//Event Calendar 2.0//EN
METHOD:PUBLISH
X-PUBLISHED-TTL:P3D
REFRESH-INTERVAL:P3D
CALSCALE:GREGORIAN
BEGIN:VEVENT
DTSTART:20210728T160000Z
DTEND:20210729T000000Z
X-MICROSOFT-CDO-ALLDAYEVENT:FALSE
SUMMARY:2021 Annual Golf Outing
DESCRIPTION:Crossroads Regional Chamber of Commerce\n\n2021 Annual Golf Outing\n\n\n\nMen and Women of all Skill Levels Welcome!\n\nGrab Your Clubs and Let's Play!\n\n\n\nDeadline to Register: July 16\, 2021\n\n\n\nOn-Course Beverages and Snacks\n\n50/50 Cash Raffle\n\nCourse Games\n\nHole-In-One Prizes\n\n\n\nSPONSORSHIPS AVAILABLE!
X-ALT-DESC;FMTTYPE=text/html:Crossroads Regional Chamber of Commerce<br />\n2021 Annual Golf Outing<br />\n<br />\nMen and Women of all Skill Levels Welcome!<br />\nGrab Your Clubs and Let&#39\;s Play!<br />\n<br />\nDeadline to Register: July 16\, 2021<br />\n<br />\nOn-Course Beverages and Snacks<br />\n50/50 Cash Raffle<br />\nCourse Games<br />\nHole-In-One Prizes<br />\n<br />\nSPONSORSHIPS AVAILABLE!
LOCATION:Youche Country Club 2301 West 129th Place Crown Point\, Indiana 46307 Northwest Indiana's Premier 18-Hole Private Course!
UID:e.897.4393
SEQUENCE:3
DTSTAMP:20260425T171230Z
URL:https://members.crossroadschamber.org/events/details/2021-annual-golf-outing-4393
END:VEVENT

END:VCALENDAR
