BEGIN:VCALENDAR
VERSION:2.0
PRODID:-//ChamberMaster//Event Calendar 2.0//EN
METHOD:PUBLISH
X-PUBLISHED-TTL:P3D
REFRESH-INTERVAL:P3D
CALSCALE:GREGORIAN
BEGIN:VEVENT
DTSTART:20220725T150000Z
DTEND:20220725T220000Z
X-MICROSOFT-CDO-ALLDAYEVENT:FALSE
SUMMARY:2022 Annual Golf Outing
DESCRIPTION:Crossroads Regional Chamber of Commerce\n\n2022 Annual Golf Outing\n\n\n\nMen and Women of all Skill Levels Welcome!\n\nGrab Your Clubs and Let's Play!\n\n\n\nDeadline to Register: July 18\, 2022\n\n\n\nOn-Course Beverages and Snacks\n\n50/50 Cash Raffle\n\nCourse Games\n\nHole-In-One Prizes\n\n\n\nSPONSORSHIPS AVAILABLE!
X-ALT-DESC;FMTTYPE=text/html:Crossroads Regional Chamber of Commerce<br />\n2022 Annual Golf Outing<br />\n<br />\nMen and Women of all Skill Levels Welcome!<br />\nGrab Your Clubs and Let&#39\;s Play!<br />\n<br />\nDeadline to Register: July 18\, 2022<br />\n<br />\nOn-Course Beverages and Snacks<br />\n50/50 Cash Raffle<br />\nCourse Games<br />\nHole-In-One Prizes<br />\n<br />\nSPONSORSHIPS AVAILABLE!
LOCATION:Innsbrook Country Club 6701 Taft Street Merrillville\, Indiana 46410 Northwest Indiana's Premier 18-Hole Private Course!
UID:e.897.4496
SEQUENCE:3
DTSTAMP:20260424T193456Z
URL:https://members.crossroadschamber.org/events/details/2022-annual-golf-outing-4496
END:VEVENT

END:VCALENDAR
