BEGIN:VCALENDAR
VERSION:2.0
PRODID:-//ChamberMaster//Event Calendar 2.0//EN
METHOD:PUBLISH
X-PUBLISHED-TTL:P3D
REFRESH-INTERVAL:P3D
CALSCALE:GREGORIAN
BEGIN:VEVENT
DTSTART:20221120T000000Z
DTEND:20221120T040000Z
X-MICROSOFT-CDO-ALLDAYEVENT:FALSE
SUMMARY:2022 Gala - An Evening of Thanks
DESCRIPTION:Our Annual Gala "Thanks" themed event is the Chamber's largest social event of the year. The event brings together our community business leaders and their guests for a fun-festive evening with over 500 people in attendance!\n\nPresenting Sponsor:\n\nFranciscan Health
X-ALT-DESC;FMTTYPE=text/html:<strong><span style="color:#009999\;"><span style="font-family:verdana\,sans-serif\;"><span style="font-size:10.5pt\;">Our Annual Gala &quot\;Thanks&quot\; themed event is the Chamber&#39\;s largest social event of the year.&nbsp\;The event brings together our community business&nbsp\;leaders and their guests for a fun-festive evening with over 500 people in attendance!</span></span></span></strong><br />\n<span style="color:#333333\;"><span style="font-family:arial\,sans-serif\;"><span style="font-size:10.0pt\;"><strong>Presenting Sponsor:</strong></span></span></span><br />\n<strong><span style="color:#009999\;"><span style="font-family:verdana\,sans-serif\;"><span style="font-size:10.5pt\;">Franciscan Health</span></span></span></strong>
LOCATION:Avalon Manor 3550 E Lincoln Hwy Merrillville\, IN 46410
UID:e.897.4533
SEQUENCE:3
DTSTAMP:20260424T124205Z
URL:https://members.crossroadschamber.org/events/details/2022-gala-an-evening-of-thanks-4533
END:VEVENT

END:VCALENDAR
