BEGIN:VCALENDAR
VERSION:2.0
PRODID:-//ChamberMaster//Event Calendar 2.0//EN
METHOD:PUBLISH
X-PUBLISHED-TTL:P3D
REFRESH-INTERVAL:P3D
CALSCALE:GREGORIAN
BEGIN:VEVENT
DTSTART:20230523T180000Z
DTEND:20230523T230000Z
X-MICROSOFT-CDO-ALLDAYEVENT:FALSE
SUMMARY:2023 Business Expo Registration and Sponsorship
DESCRIPTION:
X-ALT-DESC;FMTTYPE=text/html:<div>&nbsp\;</div>\n<br />\n<br />\n&nbsp\;
LOCATION:U.S. Steel Yard Home of the RailCats
UID:e.897.4857
SEQUENCE:3
DTSTAMP:20260424T020639Z
URL:https://members.crossroadschamber.org/events/details/2023-business-expo-registration-and-sponsorship-4857
END:VEVENT

END:VCALENDAR
