BEGIN:VCALENDAR
VERSION:2.0
PRODID:-//ChamberMaster//Event Calendar 2.0//EN
METHOD:PUBLISH
X-PUBLISHED-TTL:P3D
REFRESH-INTERVAL:P3D
CALSCALE:GREGORIAN
BEGIN:VEVENT
DTSTART:20231119T000000Z
DTEND:20231119T040000Z
X-MICROSOFT-CDO-ALLDAYEVENT:FALSE
SUMMARY:2023 Gala - The Time of Our Lives 80's Prom Gala
DESCRIPTION:Our Annual Gala "The Time of Our Lives" 80's Prom themed event is the Chamber's largest social event of the year. The event brings together our community business leaders and their guests for a fun-festive evening with over 500 people in attendance!
X-ALT-DESC;FMTTYPE=text/html:<strong><span style="color:#009999\;"><span style="font-family:verdana\,sans-serif\;"><span style="font-size:10.5pt\;">Our Annual Gala &quot\;The Time of Our Lives&quot\; 80&#39\;s Prom themed event is the Chamber&#39\;s largest social event of the year.&nbsp\;The event brings together our community business&nbsp\;leaders and their guests for a fun-festive evening with over 500 people in attendance!</span></span></span></strong><br />\n&nbsp\;
LOCATION:Avalon Manor 3550 E Lincoln Hwy Merrillville\, IN 46410
UID:e.897.5070
SEQUENCE:3
DTSTAMP:20260423T152749Z
URL:https://members.crossroadschamber.org/events/details/2023-gala-the-time-of-our-lives-80-s-prom-gala-5070
END:VEVENT

END:VCALENDAR
