BEGIN:VCALENDAR
VERSION:2.0
PRODID:-//ChamberMaster//Event Calendar 2.0//EN
METHOD:PUBLISH
X-PUBLISHED-TTL:P3D
REFRESH-INTERVAL:P3D
CALSCALE:GREGORIAN
BEGIN:VEVENT
DTSTART:20241117T000000Z
DTEND:20241117T040000Z
X-MICROSOFT-CDO-ALLDAYEVENT:FALSE
SUMMARY:2024 A Night of Timeless Elegance Diamonds & Pearls Gala
DESCRIPTION:Our Annual Gala The event brings together our community business leaders and their guests for a fun-festive evening with over 500 people in attendance!
X-ALT-DESC;FMTTYPE=text/html:<strong><span style="color:#009999\;"><span style="font-family:verdana\,sans-serif\;"><span style="font-size:10.5pt\;">Our Annual Gala The event brings together our community business&nbsp\;leaders and their guests for a fun-festive evening with over 500 people in attendance!</span></span></span></strong><br />\n&nbsp\;
LOCATION:Hardrock Casino Northwest Indiana 5400 W 29th Ave Gary\, IN
UID:e.897.5516
SEQUENCE:3
DTSTAMP:20260420T165510Z
URL:https://members.crossroadschamber.org/events/details/2024-a-night-of-timeless-elegance-diamonds-pearls-gala-5516
END:VEVENT

END:VCALENDAR
