BEGIN:VCALENDAR
VERSION:2.0
PRODID:-//ChamberMaster//Event Calendar 2.0//EN
METHOD:PUBLISH
X-PUBLISHED-TTL:P3D
REFRESH-INTERVAL:P3D
CALSCALE:GREGORIAN
BEGIN:VEVENT
DTSTART:20241213T171500Z
DTEND:20241213T190000Z
X-MICROSOFT-CDO-ALLDAYEVENT:FALSE
SUMMARY:2024 Annual Holiday Installation & Awards Luncheon
DESCRIPTION:Installation of the 2025 Crossroads Board of Directors & Awards
X-ALT-DESC;FMTTYPE=text/html:Installation of the 2025 Crossroads Board of Directors &amp\; Awards<br />\n<br />\n&nbsp\;
LOCATION:Innsbrook Country Club 6701 W Taft St Merrillville\, IN 46410
UID:e.897.5914
SEQUENCE:3
DTSTAMP:20260420T165330Z
URL:https://members.crossroadschamber.org/events/details/2024-annual-holiday-installation-awards-luncheon-5914
END:VEVENT

END:VCALENDAR
