BEGIN:VCALENDAR
VERSION:2.0
PRODID:-//ChamberMaster//Event Calendar 2.0//EN
METHOD:PUBLISH
X-PUBLISHED-TTL:P3D
REFRESH-INTERVAL:P3D
CALSCALE:GREGORIAN
BEGIN:VEVENT
DTSTART:20240813T160000Z
DTEND:20240813T180000Z
X-MICROSOFT-CDO-ALLDAYEVENT:FALSE
SUMMARY:2024 August Monthly Membership Program
DESCRIPTION:Guest Speaker: \n\nMike Jessen \n\nPresident and Chief Executive Officer\, Boys & Girls Clubs of Greater Northwest Indiana \n\n\n\n\n\nDon't forget to register for a Promotional "Get Promoted" Table $30 \n\nReceive a table with two chairs\, bring your promotional items for your business\, network with members and receive two minutes at the mic during the program.
X-ALT-DESC;FMTTYPE=text/html:<strong><span style="background-image: initial\; background-position: initial\; background-size: initial\; background-repeat: initial\; background-attachment: initial\; background-origin: initial\; background-clip: initial\;"><span style="color: black\;">Guest Speaker:&nbsp\;</span></span></strong><br />\nMike Jessen&nbsp\;<br />\nPresident and Chief Executive Officer\, Boys &amp\; Girls Clubs of Greater Northwest Indiana&nbsp\;<br />\n<br />\n<br />\nDon&#39\;t forget to register for a&nbsp\;<strong><span style="background-image: initial\; background-position: initial\; background-size: initial\; background-repeat: initial\; background-attachment: initial\; background-origin: initial\; background-clip: initial\;"><span style="color: black\;">Promotional &ldquo\;Get Promoted&rdquo\; Table $30&nbsp\;</span></span></strong><br />\n<span style="background-image: initial\; background-position: initial\; background-size: initial\; background-repeat: initial\; background-attachment: initial\; background-origin: initial\; background-clip: initial\;"><span style="color: black\;">Receive a table with two chairs\, bring your promotional items for your business\, network with members and receive two minutes at the mic during the program.</span></span>
LOCATION:Lighthouse Restaurant 7501 Constitution Ave Cedar Lake\, IN
UID:e.897.5658
SEQUENCE:3
DTSTAMP:20260421T004241Z
URL:https://members.crossroadschamber.org/events/details/2024-august-monthly-membership-program-5658
END:VEVENT

END:VCALENDAR
