BEGIN:VCALENDAR
VERSION:2.0
PRODID:-//ChamberMaster//Event Calendar 2.0//EN
METHOD:PUBLISH
X-PUBLISHED-TTL:P3D
REFRESH-INTERVAL:P3D
CALSCALE:GREGORIAN
BEGIN:VEVENT
DTSTART:20240521T180000Z
DTEND:20240521T230000Z
X-MICROSOFT-CDO-ALLDAYEVENT:FALSE
SUMMARY:2024 Business Expo and Monthly Program
DESCRIPTION:Join us for the Unlocking Tomorrow for Business Today Business to Business Expo
X-ALT-DESC;FMTTYPE=text/html:<div>Join us for the Unlocking Tomorrow for Business Today Business to Business Expo&nbsp\;&nbsp\;&nbsp\;&nbsp\;</div>\n<br />\n<br />\n&nbsp\;
LOCATION:Dean & Barbara White Community Center 6600 Broadway Merrillville\, IN
UID:e.897.5513
SEQUENCE:3
DTSTAMP:20260421T054755Z
URL:https://members.crossroadschamber.org/events/details/2024-business-expo-and-monthly-program-5513
END:VEVENT

END:VCALENDAR
