BEGIN:VCALENDAR
VERSION:2.0
PRODID:-//ChamberMaster//Event Calendar 2.0//EN
METHOD:PUBLISH
X-PUBLISHED-TTL:P3D
REFRESH-INTERVAL:P3D
CALSCALE:GREGORIAN
BEGIN:VEVENT
DTSTART:20240220T170000Z
DTEND:20240220T190000Z
X-MICROSOFT-CDO-ALLDAYEVENT:FALSE
SUMMARY:2024 February Monthly Membership Program
DESCRIPTION:Guest Speaker: \n\nHal Morris \n\nFormer MLB Player and World Series Champion
X-ALT-DESC;FMTTYPE=text/html:<strong><span style="background-image: initial\; background-position: initial\; background-size: initial\; background-repeat: initial\; background-attachment: initial\; background-origin: initial\; background-clip: initial\;"><span style="color: black\;">Guest Speaker:&nbsp\;</span></span></strong><br />\nHal Morris&nbsp\;<br />\nFormer MLB Player and World Series Champion&nbsp\;
LOCATION:Gamba Ristorante 455 E. 84th Dr Merrillville\, IN
UID:e.897.5653
SEQUENCE:3
DTSTAMP:20260423T095310Z
URL:https://members.crossroadschamber.org/events/details/2024-february-monthly-membership-program-5653
END:VEVENT

END:VCALENDAR
