BEGIN:VCALENDAR
VERSION:2.0
PRODID:-//ChamberMaster//Event Calendar 2.0//EN
METHOD:PUBLISH
X-PUBLISHED-TTL:P3D
REFRESH-INTERVAL:P3D
CALSCALE:GREGORIAN
BEGIN:VEVENT
DTSTART:20240123T170000Z
DTEND:20240123T190000Z
X-MICROSOFT-CDO-ALLDAYEVENT:FALSE
SUMMARY:2024 Monthly Membership Program
DESCRIPTION:Guest Speaker: \nChancellor Chris Holford\n\nPurdue University Northwest\n\n\n\n\n\n\nSponsored by Purdue University Northwest\n\n\n\n\n\n\n\nPromotional "Get Promoted" Table $30 \n\nReceived a table with two chairs\, bring your promotional items for your business\, network with members and receive two minutes at the mic during the program.
X-ALT-DESC;FMTTYPE=text/html:<strong><span style="background-image: initial\; background-position: initial\; background-size: initial\; background-repeat: initial\; background-attachment: initial\; background-origin: initial\; background-clip: initial\;"><span style="color: black\;">Guest Speaker:&nbsp\;</span></span></strong>\n<p class="xmsonormal">Chancellor Chris Holford<br />\nPurdue University Northwest</p>\n\n<p class="xmsonormal"><o:p></o:p></p>\n<br />\n<br />\n<strong><span style="background-image: initial\; background-position: initial\; background-size: initial\; background-repeat: initial\; background-attachment: initial\; background-origin: initial\; background-clip: initial\;"><span style="color: black\;">Sponsored by Purdue University Northwest</span></span></strong><br />\n<br />\n<br />\n<br />\n<strong><span style="background-image: initial\; background-position: initial\; background-size: initial\; background-repeat: initial\; background-attachment: initial\; background-origin: initial\; background-clip: initial\;"><span style="color: black\;">Promotional &ldquo\;Get Promoted&rdquo\; Table $30&nbsp\;</span></span></strong><br />\n<span style="background-image: initial\; background-position: initial\; background-size: initial\; background-repeat: initial\; background-attachment: initial\; background-origin: initial\; background-clip: initial\;"><span style="color: black\;">Received a table with two chairs\, bring your promotional items for your business\, network with members and receive two minutes at the mic during the program.</span></span>
LOCATION:Avalon Manor 3550 E. Lincoln Hwy Merrillville\, IN
UID:e.897.5652
SEQUENCE:3
DTSTAMP:20260423T115338Z
URL:https://members.crossroadschamber.org/events/details/2024-monthly-membership-program-5652
END:VEVENT

END:VCALENDAR
