BEGIN:VCALENDAR
VERSION:2.0
PRODID:-//ChamberMaster//Event Calendar 2.0//EN
METHOD:PUBLISH
X-PUBLISHED-TTL:P3D
REFRESH-INTERVAL:P3D
CALSCALE:GREGORIAN
BEGIN:VEVENT
DTSTART:20241015T161500Z
DTEND:20241015T180000Z
X-MICROSOFT-CDO-ALLDAYEVENT:FALSE
SUMMARY:2024 October Monthly Membership Program
DESCRIPTION:Guest Speaker: \n\nRyan Lisek \n\nProgram Director at Drive Clean Indiana
X-ALT-DESC;FMTTYPE=text/html:<span style="font-size:18px\;"><strong><span style="background-image: initial\; background-position: initial\; background-size: initial\; background-repeat: initial\; background-attachment: initial\; background-origin: initial\; background-clip: initial\;"><span style="color: black\;">Guest Speaker:&nbsp\;<br />\nRyan Lisek&nbsp\;<br />\nProgram Director at Drive Clean Indiana&nbsp\;</span></span></strong></span><br />\n&nbsp\;
LOCATION:Aberdeen Manor Ballroom 216 Ballantrae St Valparaiso\, IN 46385
UID:e.897.5660
SEQUENCE:3
DTSTAMP:20260420T180903Z
URL:https://members.crossroadschamber.org/events/details/2024-october-monthly-membership-program-5660
END:VEVENT

END:VCALENDAR
