BEGIN:VCALENDAR
VERSION:2.0
PRODID:-//ChamberMaster//Event Calendar 2.0//EN
METHOD:PUBLISH
X-PUBLISHED-TTL:P3D
REFRESH-INTERVAL:P3D
CALSCALE:GREGORIAN
BEGIN:VEVENT
DTSTART:20240917T161500Z
DTEND:20240917T180000Z
X-MICROSOFT-CDO-ALLDAYEVENT:FALSE
SUMMARY:2024 September Monthly Membership Program
DESCRIPTION:Economic Development Panel \n\nSpencer Summers- NWI Forum \n\nGreg Falkowski- City of Crown Point \n\nLisa Daugherty- Center Workforce Innovation \n\nBret Cook- LEAP \n\n \n\nModerator: \n\nRick Calinski- NIPSCO\n\n\n\n\n\nDon't forget to register for a Promotional "Get Promoted" Table $30 \n\nReceive a table with two chairs\, bring your promotional items for your business\, network with members and receive two minutes at the mic during the program
X-ALT-DESC;FMTTYPE=text/html:<span style="font-size:16px\;"><strong>Economic Development Panel&nbsp\;</strong></span><br />\n<span style="font-family:calibri light\,sans-serif\;"><span style="font-size:14.0pt\;">Spencer Summers- NWI Forum </span></span><br />\n<span style="font-family:calibri light\,sans-serif\;"><span style="font-size:14.0pt\;">Greg Falkowski- City of Crown Point </span></span><br />\n<span style="font-family:calibri light\,sans-serif\;"><span style="font-size:14.0pt\;">Lisa Daugherty- Center Workforce Innovation </span></span><br />\n<span style="font-family:calibri light\,sans-serif\;"><span style="font-size:14.0pt\;">Bret Cook- LEAP </span></span><br />\n&nbsp\;<br />\n<span style="font-family:calibri light\,sans-serif\;"><span style="font-size:14.0pt\;">Moderator: </span></span><br />\n<span style="font-family:calibri light\,sans-serif\;"><span style="font-size:14.0pt\;">Rick Calinski- NIPSCO</span></span><br />\n<br />\n<br />\n<span style="font-size:18px\;">Don&#39\;t forget to register for a&nbsp\;<span style="background-image: initial\; background-position: initial\; background-size: initial\; background-repeat: initial\; background-attachment: initial\; background-origin: initial\; background-clip: initial\;"><span style="color: black\;">Promotional &ldquo\;Get Promoted&rdquo\; Table $30&nbsp\;</span></span><br />\n<span style="background-image: initial\; background-position: initial\; background-size: initial\; background-repeat: initial\; background-attachment: initial\; background-origin: initial\; background-clip: initial\;"><span style="color: black\;">Receive a table with two chairs\, bring your promotional items for your business\, network with members and receive two minutes at the mic during the program</span></span></span>
LOCATION:Hard Rock Casino Northern Indiana 5400 W 29th Ave Gary\, IN 46406
UID:e.897.5659
SEQUENCE:3
DTSTAMP:20260420T194007Z
URL:https://members.crossroadschamber.org/events/details/2024-september-monthly-membership-program-5659
END:VEVENT

END:VCALENDAR
