BEGIN:VCALENDAR
VERSION:2.0
PRODID:-//ChamberMaster//Event Calendar 2.0//EN
METHOD:PUBLISH
X-PUBLISHED-TTL:P3D
REFRESH-INTERVAL:P3D
CALSCALE:GREGORIAN
BEGIN:VEVENT
DTSTART:20251212T171500Z
DTEND:20251212T190000Z
X-MICROSOFT-CDO-ALLDAYEVENT:FALSE
SUMMARY:2025 Annual Holiday Installation & Awards Luncheon
DESCRIPTION:Installation of the 2026 Crossroads Board of Directors & Awards
X-ALT-DESC;FMTTYPE=text/html:<span style="font-size:20px\;">Installation of the 2026 Crossroads Board of Directors &amp\; Awards&nbsp\;</span><br />\n<br />\n&nbsp\;
LOCATION:Innsbrook Country Club 6701 W Taft St Merrillville\, IN 46410
UID:e.897.7212
SEQUENCE:3
DTSTAMP:20260419T194854Z
URL:https://members.crossroadschamber.org/events/details/2025-annual-holiday-installation-awards-luncheon-7212
END:VEVENT

END:VCALENDAR
