BEGIN:VCALENDAR
VERSION:2.0
PRODID:-//ChamberMaster//Event Calendar 2.0//EN
METHOD:PUBLISH
X-PUBLISHED-TTL:P3D
REFRESH-INTERVAL:P3D
CALSCALE:GREGORIAN
BEGIN:VEVENT
DTSTART:20250121T171500Z
DTEND:20250121T190000Z
X-MICROSOFT-CDO-ALLDAYEVENT:FALSE
SUMMARY:2025 Monthly Membership Program
DESCRIPTION:Guest Speaker: \n\nKathy Chaney \n\nNWI Times Executive Editor  \n\n\n\nDon't forget to register for a Promotional "Get Promoted" Table $30 \n\nReceive a table with two chairs\, bring your promotional items for your business\, network with members and receive two minutes at the mic during the program.\n\n\n\nTable Sponsorship Available for $400\n\nTable Sponsor includes eight lunch reservations\, a reserved table in front of the room with company name on table and recognition at the mic.
X-ALT-DESC;FMTTYPE=text/html:<span style="font-size:24px\;"><span style="font-family:arial\;"><strong><span style="background-image: initial\; background-position: initial\; background-size: initial\; background-repeat: initial\; background-attachment: initial\; background-origin: initial\; background-clip: initial\;"><span style="color: black\;">Guest Speaker:&nbsp\;</span></span><br />\nKathy Chaney&nbsp\;<br />\nNWI Times Executive Editor&nbsp\;&nbsp\;</strong></span></span><br />\n<br />\n<span style="font-family:arial\;"><span style="font-size:16px\;">Don&#39\;t forget to register for a&nbsp\;<strong>Promotional &ldquo\;Get Promoted&rdquo\; Table $30&nbsp\;</strong><br />\nReceive a table with two chairs\, bring your promotional items for your business\, network with members and receive two minutes at the mic during the program.</span></span><br />\n<br />\n<span style="font-size:16px\;"><span style="font-family:arial\;">Table Sponsorship Available for $400<br />\nTable Sponsor includes eight lunch reservations\, a reserved table in front of the room with company name on table and recognition at the mic.</span></span><br />\n<br />\n<br />\n&nbsp\;
LOCATION:Youche Country Club 2301 W 129th Pl\, Crown Point\, IN 46307
UID:e.897.6544
SEQUENCE:3
DTSTAMP:20260420T145030Z
URL:https://members.crossroadschamber.org/events/details/2025-monthly-membership-program-6544
END:VEVENT

END:VCALENDAR
