BEGIN:VCALENDAR
VERSION:2.0
PRODID:-//ChamberMaster//Event Calendar 2.0//EN
METHOD:PUBLISH
X-PUBLISHED-TTL:P3D
REFRESH-INTERVAL:P3D
CALSCALE:GREGORIAN
BEGIN:VEVENT
DTSTART:20250620T200000Z
DTEND:20250620T230000Z
X-MICROSOFT-CDO-ALLDAYEVENT:FALSE
SUMMARY:2nd Annual Longest Day Carnival Fundraiser
DESCRIPTION:Join us for our second annual the Longest Day Carnival Fundraiser to benefit the Alzheimer's Association. We will have many carnival games\, food\, face painters\, balloon artists. Bring the entire family! All proceeds will go directly to the Alzheimer's Association!
X-ALT-DESC;FMTTYPE=text/html:Join us for our second annual the Longest Day Carnival Fundraiser to benefit the Alzheimer&#39\;s Association. We will have many carnival games\, food\, face painters\, balloon artists. Bring the entire family! All proceeds will go directly to the Alzheimer&#39\;s Association!
LOCATION:Belvedere Senior Housing 343 E 90th Drive Merrillville\, IN 46410
UID:e.897.7113
SEQUENCE:3
DTSTAMP:20260420T131107Z
URL:https://members.crossroadschamber.org/events/details/2nd-annual-longest-day-carnival-fundraiser-7113
END:VEVENT

END:VCALENDAR
