BEGIN:VCALENDAR
VERSION:2.0
PRODID:-//ChamberMaster//Event Calendar 2.0//EN
METHOD:PUBLISH
X-PUBLISHED-TTL:P3D
REFRESH-INTERVAL:P3D
CALSCALE:GREGORIAN
BEGIN:VEVENT
DTSTART:20240511T180000Z
DTEND:20240512T020000Z
X-MICROSOFT-CDO-ALLDAYEVENT:FALSE
SUMMARY:4th Annual Cornhole Tournament
DESCRIPTION:Join us for our 4th Annual Cornhole Tournament fundraiser! As the largest cornhole tournament in the Chicagoland area\, our event draws over 500 individuals with over 100 teams playing. Our A Division brings professional players\, seen on ESPN\, to our tournament.\n\n\n\n$10\,000 in payouts along with amazing food vendors\, a beer garden\, and a kid zone to keep the kiddos entertained. 100% of the proceeds raised from this event through team registrations\, sponsorships\, raffles\, and vendors will be donated back into the community through Lerner & Rowe Gives Back.\n\n\n\nSponsorships still available! Team registrations are open!\n\nwww.lernerandrowegivesback.org/cornhole for more information.
X-ALT-DESC;FMTTYPE=text/html:Join us for our 4th Annual Cornhole Tournament fundraiser! As the largest cornhole tournament in the Chicagoland area\, our event draws over 500 individuals with over 100 teams playing. Our A Division brings professional players\, seen on ESPN\, to our tournament.<br />\n<br />\n$10\,000 in payouts along with amazing food vendors\, a beer garden\, and a kid zone to keep the kiddos entertained. 100% of the proceeds raised from this event through team registrations\, sponsorships\, raffles\, and vendors will be donated back into the community through Lerner &amp\; Rowe Gives Back.<br />\n<br />\nSponsorships still available! Team registrations are open!<br />\nwww.lernerandrowegivesback.org/cornhole for more information.
LOCATION:Bulldog Park 183 S. West Street Crown Point\, IN 46307
UID:e.897.6241
SEQUENCE:3
DTSTAMP:20260421T054544Z
URL:https://members.crossroadschamber.org/events/details/4th-annual-cornhole-tournament-6241
END:VEVENT

END:VCALENDAR
