BEGIN:VCALENDAR
VERSION:2.0
PRODID:-//ChamberMaster//Event Calendar 2.0//EN
METHOD:PUBLISH
X-PUBLISHED-TTL:P3D
REFRESH-INTERVAL:P3D
CALSCALE:GREGORIAN
BEGIN:VEVENT
DTSTART:20241025T230000Z
DTEND:20241026T030000Z
X-MICROSOFT-CDO-ALLDAYEVENT:FALSE
SUMMARY:4th Annual Murder Mystery Dinner
DESCRIPTION:Merrillville Rotary Club Presents\n\nThe 4th Annual Murder Mystery Dinner\n\nTragedies at DAFTA Awards\n\nDrama\, Arts\, Film & Television Academy\n\nPlease Join Us &Walk the Red Carpet like a Hollywood Star f\n\n\n\nGet ready for a night of glamour and mystery\n\nwith entertainment by professional actors\, food & cash bar\n\nAll Proceeds to benefit Clothing Our Children  April 6th\, 2025
X-ALT-DESC;FMTTYPE=text/html:<h2 style="font-style:italic\; text-align:center"><span style="font-size:24px"><span style="color:#000080"><strong>Merrillville Rotary Club Presents</strong></span></span></h2>\n\n<h2 style="font-style:italic\; text-align:center"><span style="font-size:24px"><span style="color:#000080"><strong>The 4th Annual Murder Mystery Dinner</strong></span></span></h2>\n\n<h2 style="font-style:italic\; text-align:center"><span style="font-size:24px"><span style="color:#000080"><strong>Tragedies at DAFTA Awards</strong></span></span></h2>\n\n<p style="text-align:center"><strong><em>Drama\, Arts\, Film &amp\; Television Academy</em></strong></p>\n\n<h3 style="text-align:center"><span style="font-size:14px"><em>Please Join Us &amp\;Walk the <span style="color:#ed2124">Red Carpet</span> like a Hollywood Star f</em></span><br />\n<br />\n<span style="color:rgb(5\, 5\, 5)\; font-family:system-ui\,-apple-system\,blinkmacsystemfont\,.sfnstext-regular\,sans-serif\; font-size:15px">Get ready for a night of glamour and mystery<br />\nwith entertainment by professional actors\, food &amp\; cash bar</span></h3>\n\n<div style="text-align:center">All Proceeds to benefit Clothing Our Children&trade\; April 6th\, 2025</div>\n
LOCATION:Hellenic Banquet Center 8000 Madison Street\, Merrillville\, IN
UID:e.897.6479
SEQUENCE:3
DTSTAMP:20260420T181048Z
URL:https://members.crossroadschamber.org/events/details/4th-annual-murder-mystery-dinner-6479
END:VEVENT

END:VCALENDAR
