BEGIN:VCALENDAR
VERSION:2.0
PRODID:-//ChamberMaster//Event Calendar 2.0//EN
METHOD:PUBLISH
X-PUBLISHED-TTL:P3D
REFRESH-INTERVAL:P3D
CALSCALE:GREGORIAN
BEGIN:VEVENT
DTSTART:20250920T130000Z
DTEND:20250920T200000Z
X-MICROSOFT-CDO-ALLDAYEVENT:FALSE
SUMMARY:5th Annual Bench Battalion
DESCRIPTION:Join us for the 5th Annual Bench Battalion Powerlifting Event hosted by Anytime Fitness Winfield!\n\nThis exciting community event brings together lifters of all levels to compete for a cause supporting the Northwest Indiana First Responders Peer Support Group. All proceeds benefit the mental health and well-being of our local firefighters\, EMS\, police officers\, and dispatchers. Come lift\, cheer\, and make a difference!
X-ALT-DESC;FMTTYPE=text/html:<span style="font-size:18px\;"><strong>Join us for the 5th Annual Bench Battalion Powerlifting Event hosted by Anytime Fitness Winfield!</strong><br />\nThis exciting community event brings together lifters of all levels to compete for a cause&mdash\;supporting the Northwest Indiana First Responders Peer Support Group. All proceeds benefit the mental health and well-being of our local firefighters\, EMS\, police officers\, and dispatchers. Come lift\, cheer\, and make a difference!</span>
LOCATION:Anytime Fitness Winfield 7954 E 108th Ave Winfield IN 46307
UID:e.897.7137
SEQUENCE:3
DTSTAMP:20260420T011549Z
URL:https://members.crossroadschamber.org/events/details/5th-annual-bench-battalion-7137
END:VEVENT

END:VCALENDAR
