BEGIN:VCALENDAR
VERSION:2.0
PRODID:-//ChamberMaster//Event Calendar 2.0//EN
METHOD:PUBLISH
X-PUBLISHED-TTL:P3D
REFRESH-INTERVAL:P3D
CALSCALE:GREGORIAN
BEGIN:VEVENT
DTSTART:20250130T153000Z
DTEND:20250130T183000Z
X-MICROSOFT-CDO-ALLDAYEVENT:FALSE
SUMMARY:6-Phase Meditation Class
DESCRIPTION:What is 6-Phase Meditation?  The 6-Phase Meditation is meditation for the modern Western world\, a guided meditation designed to offer the best benefits of meditation without the stereotype of sitting cross-legged in isolation emptying your mind. Six phases take you through a journey relating to your present state of beingness to the vision of your future self.\n\n      It is designed for people with busy lives\, entrepreneurs\, professional athletes\, creators\, super-performers\, and virtually anyone whose mind is always racing.  \n\nWhat are the benefits of taking this class?   Meditation training provides a pathway to mental clarity\, emotional balance\, and physical health.  On the professional spectrum\, meditation practices reduce workplace stress\, enhance focus\, and support team-building strategies. Meditation programs are offered by large corporations as an integral part of their benefits package. 6-Phase Mediation provides a simple and effective way to begin a meditation practice and improve overall well-being.
X-ALT-DESC;FMTTYPE=text/html:<span style="color:windowtext"><span style="font-size:14pt"><strong>What is 6-Phase Meditation?</strong></span></span><span style="color:windowtext">&nbsp\; The</span> <span style="color:windowtext">6-Phase Meditation is meditation for the modern Western world\, a guided meditation designed to offer the best benefits of meditation without the stereotype of sitting cross-legged in isolation emptying your mind. Six phases take you through a journey relating to your present state of beingness to the vision of your future self.</span><br />\n<span style="color:windowtext">&nbsp\;&nbsp\;&nbsp\;&nbsp\;&nbsp\; It is designed for people with busy lives\, entrepreneurs\, professional athletes\, creators\, super-performers\, and virtually anyone whose mind is always racing. </span>&nbsp\;<br />\n<strong><span style="color:windowtext"><span style="font-size:14.0pt">What are the benefits of taking this class?</span></span></strong>&nbsp\; &nbsp\;<span style="color:windowtext">Meditation training provides a pathway to mental clarity\, emotional balance\, and physical health. </span>&nbsp\;<strong><em><span style="color:windowtext">On the professional spectrum</span></em></strong><span style="color:windowtext">\, meditation practices reduce workplace stress\, enhance focus\, and support team-building strategies. Meditation programs are offered by large corporations as an integral part of their benefits package. 6-Phase Mediation provides a simple and effective way to begin a meditation practice and improve overall well-being.</span><br />\n<br />\n&nbsp\;
LOCATION:Crossroads\, Northwest Indiana's Chamber office 440 W. 84th Drive\, Merrillville\, IN 46410
UID:e.897.6607
SEQUENCE:3
DTSTAMP:20260420T133850Z
URL:https://members.crossroadschamber.org/events/details/6-phase-meditation-class-6607
END:VEVENT

END:VCALENDAR
