BEGIN:VCALENDAR
VERSION:2.0
PRODID:-//ChamberMaster//Event Calendar 2.0//EN
METHOD:PUBLISH
X-PUBLISHED-TTL:P3D
REFRESH-INTERVAL:P3D
CALSCALE:GREGORIAN
BEGIN:VEVENT
DTSTART:20241103T190000Z
DTEND:20241103T220000Z
X-MICROSOFT-CDO-ALLDAYEVENT:FALSE
SUMMARY:7th Annual Fairy Tale Ball
DESCRIPTION:Fair Haven is Northwest Indiana's rape crisis center. Fairy tales are not our specialty\, but HOPE IS! Our annual fundraiser ball highlights the innocence of childhood and empowerment through our prevention education program.  Our advocacy work honors survivors of sexual violence and human trafficking\, who have faced tragedy and chose to write a whole new story though healing and recovery.\n\nWe have prepared the castle where you will be transported into a twilight adventure in the bayou. This family-friendly event offers a full afternoon of family-style dining\, Fairy Dust Salon\, Clydesdale horse-drawn ride\, live performance by the Indiana Ballet Theater and more\, music & dancing\, 360 photo booth and other picture opportunities\, silent auction that will appeal to all ages\, mimosa & wine pull (21+) and special appearances from our most beloved fairy tale characters.\n\nIf you have any questions\, please contact us at shana.robertson@fairhavenrcc.org\n\nThank you for supporting our vision to create a caring\, safe and nurturing community with zero tolerance for violence.
X-ALT-DESC;FMTTYPE=text/html:<p style="text-align:center"><span style="font-size:12px"><span style="font-family:tahoma">Fair Haven is Northwest Indiana&#39\;s rape crisis center. Fairy tales are not our specialty\, but HOPE IS! Our annual fundraiser ball highlights the innocence of childhood and empowerment through our prevention education program.&nbsp\; Our advocacy work honors survivors of sexual violence and human trafficking\, who have faced tragedy and chose to write a whole new story though healing and recovery.<br />\nWe have prepared the castle where you will be transported into a twilight adventure in the bayou. This family-friendly event offers a full afternoon of family-style dining\, Fairy Dust Salon\, Clydesdale horse-drawn ride\, live performance by the Indiana Ballet Theater and more\, music &amp\; dancing\, 360 photo booth and other picture opportunities\, silent auction that will appeal to all ages\, mimosa &amp\; wine pull (21+) and special appearances from our most beloved fairy tale characters.<br />\nIf you have any questions\, please contact us at&nbsp\;<a href="mailto:shana.robertson@fairhavenrcc.org?subject=FTB24%20Question%20or%20Concern" id="shana.robertson@fairhavenrcc.org" style="color: rgb(51\, 122\, 183)\; box-sizing: border-box\; text-decoration-line: none\;" title="shana.robertson@fairhavenrcc.org">shana.robertson@fairhavenrcc.org</a><br />\nThank you for supporting our vision to create a caring\, safe and nurturing community with zero tolerance for violence.</span></span></p>\n
LOCATION:The Halls of St. George 905 E. Joliet Street Schererville\, IN 46374
UID:e.897.6492
SEQUENCE:3
DTSTAMP:20260420T180256Z
URL:https://members.crossroadschamber.org/events/details/7th-annual-fairy-tale-ball-6492
END:VEVENT

END:VCALENDAR
