BEGIN:VCALENDAR
VERSION:2.0
PRODID:-//ChamberMaster//Event Calendar 2.0//EN
METHOD:PUBLISH
X-PUBLISHED-TTL:P3D
REFRESH-INTERVAL:P3D
CALSCALE:GREGORIAN
BEGIN:VEVENT
DTSTART:20251102T190000Z
DTEND:20251102T220000Z
X-MICROSOFT-CDO-ALLDAYEVENT:FALSE
SUMMARY:8th Annual Fairy Tale Ball
DESCRIPTION:"When You Believe\, You'll Find Your Wings" \n\n\n\nThis family-friendly event is open to everyone   girls and boys\, moms and dads\, grandparents\, aunts\, uncles\, friends\, and community partners. We are preparing the castle for a sparkling celebration filled with wonder\, inspiration\, and a touch of pixie dust! \n\n\n\nJoin us\, as the Halls of St. George is transformed into a Neverland-inspired adventure   a whimsical world where fairy tales come to life. With room for 350 enchanted guests\, this event includes: \n\n\n\n\n	 A delicious sit-down lunch \n\n\n\n\n\n	Music and dancing for all ages \n\n\n\n\n\n	 Magical photo opportunities \n\n\n\n\n\n	A silent auction filled with treasures \n	?Special appearances from your favorite fairy tale characters  \n\n\n\n\nBy attending Fair Haven Rape Crisis Center's Fairy Tale Ball\, you're not only stepping into a world of fairy dust and adventure   you're also helping us protect more children with prevention education and supporting advocacy support for survivors\, on their journey from victimhood to freedom. Because in both Neverland and real life\, "all it takes is faith\, trust\, and a little bit of pixie dust" to believe in something better   and to take flight.
X-ALT-DESC;FMTTYPE=text/html:<div>\n<p style="text-align:center"><strong>&ldquo\;When You Believe\, You&rsquo\;ll Find Your Wings&rdquo\;</strong><span style="font-family:candara\,candara_embeddedfont\,candara_msfontservice\,sans-serif\; font-size:12pt">&nbsp\;</span></p>\n</div>\n\n<div>\n<p><span style="font-family:candara\,candara_embeddedfont\,candara_msfontservice\,sans-serif\; font-size:12pt">This </span><span style="font-family:candara\,candara_embeddedfont\,candara_msfontservice\,sans-serif\; font-size:12pt">family-friendly</span><span style="font-family:candara\,candara_embeddedfont\,candara_msfontservice\,sans-serif\; font-size:12pt"> event is open to </span><strong>everyone</strong><span style="font-family:candara\,candara_embeddedfont\,candara_msfontservice\,sans-serif\; font-size:12pt"> &mdash\; girls and boys\, moms and dads\, grandparents\, aunts\, uncles\, friends\, and community partners. We are preparing the castle for a sparkling celebration filled with wonder\, inspiration\, and a touch of pixie dust!</span><span style="font-family:candara\,candara_embeddedfont\,candara_msfontservice\,sans-serif\; font-size:12pt">&nbsp\;</span></p>\n</div>\n\n<div>\n<p><span style="font-family:candara\,candara_embeddedfont\,candara_msfontservice\,sans-serif\; font-size:12pt">Join us\, as the </span><strong>Halls of St. George</strong><span style="font-family:candara\,candara_embeddedfont\,candara_msfontservice\,sans-serif\; font-size:12pt"> is transformed into a Neverland-inspired adventure &mdash\; a whimsical world where fairy tales come to life. With room for </span><strong>350 enchanted guests</strong><span style="font-family:candara\,candara_embeddedfont\,candara_msfontservice\,sans-serif\; font-size:12pt">\, this event includes:</span><span style="font-family:candara\,candara_embeddedfont\,candara_msfontservice\,sans-serif\; font-size:12pt">&nbsp\;</span></p>\n</div>\n\n<div>\n<ul>\n	<li><span style="font-family:candara\,candara_embeddedfont\,candara_msfontservice\,sans-serif\; font-size:12pt">&nbsp\;A delicious sit-down lunch</span><span style="font-family:candara\,candara_embeddedfont\,candara_msfontservice\,sans-serif\; font-size:12pt">&nbsp\;</span></li>\n</ul>\n</div>\n\n<div>\n<ul>\n	<li><span style="font-family:candara\,candara_embeddedfont\,candara_msfontservice\,sans-serif\; font-size:12pt">Music and dancing for all ages</span><span style="font-family:candara\,candara_embeddedfont\,candara_msfontservice\,sans-serif\; font-size:12pt">&nbsp\;</span></li>\n</ul>\n</div>\n\n<div>\n<ul>\n	<li><span style="font-family:candara\,candara_embeddedfont\,candara_msfontservice\,sans-serif\; font-size:12pt">&nbsp\;Magical photo opportunities</span><span style="font-family:candara\,candara_embeddedfont\,candara_msfontservice\,sans-serif\; font-size:12pt">&nbsp\;</span></li>\n</ul>\n</div>\n\n<div>\n<ul>\n	<li><span style="font-family:candara\,candara_embeddedfont\,candara_msfontservice\,sans-serif\; font-size:12pt">A silent auction filled with treasures</span><span style="font-family:candara\,candara_embeddedfont\,candara_msfontservice\,sans-serif\; font-size:12pt">&nbsp\;</span></li>\n	<li><span style="font-family:candara\,candara_embeddedfont\,candara_msfontservice\,sans-serif\; font-size:12pt">?<span style="font-family:candara\,candara_embeddedfont\,candara_msfontservice\,sans-serif\; font-size:12pt">Special appearances from your favorite fairy tale characters&nbsp\;&nbsp\;</span></span></li>\n</ul>\n</div>\n\n<div>\n<p><span style="color:rgb(0\, 0\, 0)\; font-family:candara\,candara_embeddedfont\,candara_msfontservice\,sans-serif\; font-size:12pt">By attending Fair Haven Rape Crisis Center&#39\;s Fairy Tale Ball\, you&rsquo\;re not only stepping into a world of fairy dust and adventure &mdash\; you&rsquo\;re also helping us protect more children with prevention education and supporting advocacy support for survivors\, on their journey from victimhood to freedom. Because in both Neverland and real life\, </span><span style="color:rgb(0\, 0\, 0)\; font-family:candara\,candara_embeddedfont\,candara_msfontservice\,sans-serif\; font-size:12pt">&ldquo\;all it takes is faith\, trust\, and a little bit of pixie dust&rdquo\;</span><span style="color:rgb(0\, 0\, 0)\; font-family:candara\,candara_embeddedfont\,candara_msfontservice\,sans-serif\; font-size:12pt"> to believe in something better &mdash\; and to take flight.</span><span style="color:rgb(0\, 0\, 0)\; font-family:candara\,candara_embeddedfont\,candara_msfontservice\,sans-serif\; font-size:12pt">&nbsp\;</span></p>\n</div>\n
LOCATION:Halls of St. George 905 E. Joliet Street\, Schererville\, IN 46375
UID:e.897.7245
SEQUENCE:3
DTSTAMP:20260419T214151Z
URL:https://members.crossroadschamber.org/events/details/8th-annual-fairy-tale-ball-7245
END:VEVENT

END:VCALENDAR
