BEGIN:VCALENDAR
VERSION:2.0
PRODID:-//ChamberMaster//Event Calendar 2.0//EN
METHOD:PUBLISH
X-PUBLISHED-TTL:P3D
REFRESH-INTERVAL:P3D
CALSCALE:GREGORIAN
BEGIN:VEVENT
DTSTART:20250612T230000Z
DTEND:20250613T020000Z
X-MICROSOFT-CDO-ALLDAYEVENT:FALSE
SUMMARY:All About the Girls Part 10
DESCRIPTION:GreatNews.Life is excited to bring you the 10th Annual All About the Girls event! Mark your calendar for Thursday\, June 12\, 2025\, and join us at the beautiful Urschel Pavilion in downtown Valparaiso for an unforgettable evening of inspiration.\n\nAll About the Girls (AATG) isn't just an event it's an empowering celebration of women's strength\, resilience\, and connection. As one of the most inspiring gatherings in the region\, AATG brings together women of all backgrounds for an unforgettable evening filled with powerful storytelling\, raw emotion\, and a shared sense of empowerment. From moments of heartfelt reflection to bursts of laughter\, attendees leave not just with new connections but with a deeper appreciation for their own journeys. This year's theme\, #DearMe will feature five incredible women sharing the advice they'd give their younger selves reflecting on growth\, challenges\, and triumphs. Get ready for a night that will move\, motivate\, and remind you just how powerful you truly are!\n\nYour ticket includes an evening of inspiration\, connection\, and celebration. Enjoy powerful stories from five incredible local women\, an open bar with beer and wine\, and delicious appetizers. Come ready to network\, uplift\, and be uplifted alongside the Lifers\, influential speakers\, and an incredible community of women who are redefining strength and success.\n\nMake sure to secure your ticket soon\, as tickets will go fast!\n\n#DearMe #AATG2025\n\n*For Individuals or companies who would like to know more about sponsorship opportunities\, including full tables or to purchase tickets outside of Eventbrite and bulk tickets\, please contact Kami Tupiak at Kami@GreatNews.Life or 219-707-5023.
X-ALT-DESC;FMTTYPE=text/html:<div>GreatNews.Life is excited to bring you the 10th Annual All About the Girls event! Mark your calendar for Thursday\, June 12\, 2025\, and join us at the beautiful Urschel Pavilion in downtown Valparaiso for an unforgettable evening of inspiration.</div>\n\n<div>All About the Girls (AATG) isn&rsquo\;t just an event&mdash\;it&rsquo\;s an empowering celebration of women&rsquo\;s strength\, resilience\, and connection. As one of the most inspiring gatherings in the region\, AATG brings together women of all backgrounds for an unforgettable evening filled with powerful storytelling\, raw emotion\, and a shared sense of empowerment. From moments of heartfelt reflection to bursts of laughter\, attendees leave not just with new connections but with a deeper appreciation for their own journeys. This year&rsquo\;s theme\, #DearMe will feature five incredible women sharing the advice they&rsquo\;d give their younger selves&mdash\;reflecting on growth\, challenges\, and triumphs. Get ready for a night that will move\, motivate\, and remind you just how powerful you truly are!</div>\n\n<div>Your ticket includes an evening of inspiration\, connection\, and celebration. Enjoy powerful stories from five incredible local women\, an open bar with beer and wine\, and delicious appetizers. Come ready to network\, uplift\, and be uplifted alongside the Lifers\, influential speakers\, and an incredible community of women who are redefining strength and success.<br />\nMake sure to secure your ticket soon\, as tickets will go fast!</div>\n\n<div><a class="x1i10hfl xjbqb8w x1ejq31n xd10rxx x1sy0etr x17r0tee x972fbf xcfux6l x1qhh985 xm0m39n x9f619 x1ypdohk xt0psk2 xe8uvvx xdj266r x11i5rnm xat24cr x1mh8g0r xexx8yu x4uap5 x18d9i69 xkhd6sd x16tdsg8 x1hl2dhg xggy1nq x1a2a7pz xkrqix3 x1sur9pj xzsf02u x1s688f" href="https://www.facebook.com/hashtag/dearme?__eep__=6&amp\;__cft__[0]=AZXhS42WNIAgaC345LwypGcHsOaPyuFq2tYBp3wjweVf-yyRftP21CeJNyw7A_z8TExYZvGDZMV1WfuZAzvjbBCFbxv5ZHiypI4swnpUNwW-nV1pfV8KqklVIyGFL1dutFWXfO4hDsDK74poSNRoPd48&amp\;__tn__=q" style="color: var(--primary-text)\; cursor: pointer\; text-decoration-line: none\; list-style: none\; margin: 0px\; text-align: inherit\; border-style: none\; padding: 0px\; box-sizing: border-box\; border-width: 0px\; outline: none\; -webkit-tap-highlight-color: transparent\; font-weight: 600\; touch-action: manipulation\; background-color: transparent\; display: inline\; font-family: inherit\;" tabindex="0">#DearMe</a>&nbsp\;<a class="x1i10hfl xjbqb8w x1ejq31n xd10rxx x1sy0etr x17r0tee x972fbf xcfux6l x1qhh985 xm0m39n x9f619 x1ypdohk xt0psk2 xe8uvvx xdj266r x11i5rnm xat24cr x1mh8g0r xexx8yu x4uap5 x18d9i69 xkhd6sd x16tdsg8 x1hl2dhg xggy1nq x1a2a7pz xkrqix3 x1sur9pj xzsf02u x1s688f" href="https://www.facebook.com/hashtag/aatg2025?__eep__=6&amp\;__cft__[0]=AZXhS42WNIAgaC345LwypGcHsOaPyuFq2tYBp3wjweVf-yyRftP21CeJNyw7A_z8TExYZvGDZMV1WfuZAzvjbBCFbxv5ZHiypI4swnpUNwW-nV1pfV8KqklVIyGFL1dutFWXfO4hDsDK74poSNRoPd48&amp\;__tn__=q" style="color: var(--primary-text)\; cursor: pointer\; text-decoration-line: none\; list-style: none\; margin: 0px\; text-align: inherit\; border-style: none\; padding: 0px\; box-sizing: border-box\; border-width: 0px\; outline: none\; -webkit-tap-highlight-color: transparent\; font-weight: 600\; touch-action: manipulation\; background-color: transparent\; display: inline\; font-family: inherit\;" tabindex="0">#AATG2025</a></div>\n\n<div>*For Individuals or companies who would like to know more about sponsorship opportunities\, including full tables or to purchase tickets outside of Eventbrite and bulk tickets\, please contact Kami Tupiak at Kami@GreatNews.Life or 219-707-5023.</div>\n
LOCATION:William E. Urschel Pavilion
UID:e.897.7061
SEQUENCE:3
DTSTAMP:20260420T050029Z
URL:https://members.crossroadschamber.org/events/details/all-about-the-girls-part-10-7061
END:VEVENT

END:VCALENDAR
