BEGIN:VCALENDAR
VERSION:2.0
PRODID:-//ChamberMaster//Event Calendar 2.0//EN
METHOD:PUBLISH
X-PUBLISHED-TTL:P3D
REFRESH-INTERVAL:P3D
CALSCALE:GREGORIAN
BEGIN:VEVENT
DTSTART:20260625T230000Z
DTEND:20260626T030000Z
X-MICROSOFT-CDO-ALLDAYEVENT:FALSE
SUMMARY:All About the Girls\, Part 11
DESCRIPTION:GreatNews.Life is excited to bring the 11th Annual All About the Girls event back for another unforgettable year. Save the date for Thursday\, June 25\, 2026\, and plan to join us at the stunning Urschel Pavilion in downtown Valparaiso for a night filled with connection\, celebration\, and inspiration.\n\n \n\nAll About the Girls\, or AATG\, is more than just an event. It is a powerful night where women come together to share stories\, build connections\, and celebrate the strength found in community. Year after year\, women from all walks of life gather for an experience full of honesty\, heart\, and encouragement. Expect meaningful moments\, plenty of laughter\, and a few happy tears along the way. Guests leave feeling inspired\, empowered\, and reminded that they are not alone. This year's theme\, Without Permission\, will feature five incredible women sharing stories of resilience\, bold choices\, and living life on their own terms.\n\n \n\nYour ticket includes an evening designed to celebrate women and community\, featuring inspiring speakers\, delicious appetizers\, and an open bar with beer and wine. Spend the night alongside Lifers\, community leaders\, and women who are redefining what strength\, success\, and support look like today.\n\nBe sure to secure your ticket early. This is a night everyone looks forward to\, and tickets sell quickly.\n\n \n\n#AATG2026\n\n*For Individuals or companies who would like to know more about sponsorship opportunities\, including full tables or to purchase tickets outside of Eventbrite and bulk tickets\, please contact Kami Tupiak at Kami@GreatNews.Life or 219-707-5023.\n\n \n\nCHECK OUT LAST YEAR'S EVENT HERE: https://youtu.be/V9jMFgOF_3U\n\n \n\nOur Nonprofit Sponsor\, Fighting Pretty\, is on a bold mission to ensure every woman facing cancer knows she is strong\, beautiful\, and never alone\, regardless of cancer type\, stage of treatment\, survivorship\, or thrivership. Cancer may challenge her body\, but it will not define her spirit. Through our empowering Strength & Beauty program\, events and community support we restore confidence\, dignity\, and hope when it's needed most. Our goal is to support 500 women\, placing strength directly into their hands during one of the hardest seasons of their lives. Your donation is more than a gift. It is a reminder that she matters. Give today. Stand with her. Help us reach 500 women with strength\, beauty\, and support.
X-ALT-DESC;FMTTYPE=text/html:<div><span style="font-size:22px\;"><span style="font-family:tahoma\;">GreatNews.Life is excited to bring the 11th Annual All About the Girls event back for another unforgettable year. Save the date for Thursday\, June 25\, 2026\, and plan to join us at the stunning Urschel Pavilion in downtown Valparaiso for a night filled with connection\, celebration\, and inspiration.</span></span><br />\n&nbsp\;</div>\n\n<div><span style="font-size:22px\;"><span style="font-family:tahoma\;">All About the Girls\, or AATG\, is more than just an event. It is a powerful night where women come together to share stories\, build connections\, and celebrate the strength found in community. Year after year\, women from all walks of life gather for an experience full of honesty\, heart\, and encouragement. Expect meaningful moments\, plenty of laughter\, and a few happy tears along the way. Guests leave feeling inspired\, empowered\, and reminded that they are not alone. This year&rsquo\;s theme\, Without Permission\, will feature five incredible women sharing stories of resilience\, bold choices\, and living life on their own terms.</span></span><br />\n&nbsp\;</div>\n\n<div><span style="font-size:22px\;"><span style="font-family:tahoma\;">Your ticket includes an evening designed to celebrate women and community\, featuring inspiring speakers\, delicious appetizers\, and an open bar with beer and wine. Spend the night alongside Lifers\, community leaders\, and women who are redefining what strength\, success\, and support look like today.<br />\nBe sure to secure your ticket early. This is a night everyone looks forward to\, and tickets sell quickly.</span></span><br />\n&nbsp\;</div>\n\n<div><span style="font-size:22px\;"><span style="font-family:tahoma\;"><a class="x1i10hfl xjbqb8w x1ejq31n x18oe1m7 x1sy0etr xstzfhl x972fbf x10w94by x1qhh985 x14e42zd x9f619 x1ypdohk xt0psk2 x3ct3a4 xdj266r x14z9mp xat24cr x1lziwak xexx8yu xyri2b x18d9i69 x1c1uobl x16tdsg8 x1hl2dhg xggy1nq x1a2a7pz xkrqix3 x1sur9pj xzsf02u x1s688f" href="https://www.facebook.com/hashtag/aatg2026?__cft__[0]=AZbzsl1-jQrbaKfDCgGBt384diGaiKwQnr-lHRZWxG81pGU8r5Dqhjq4aZoAu33DWEyW8Xf9RD6Hmqx9PVdGNq5DTDFUI7_5zMGi74TMNlN6rnKmImb5OQru7PHYFF_Xp51TyuLIr7AH-d7wSClMdyPV&amp\;__tn__=q" style="color: rgb(8\, 8\, 9)\; cursor: pointer\; text-decoration: none\; outline: none\; border-inline-width: 0px\; margin-inline: 0px\; text-align: inherit\; border-inline-style: none\; padding-inline: 0px\; -webkit-tap-highlight-color: transparent\; font-weight: 600\; list-style-type: none\; box-sizing: border-box\; touch-action: manipulation\; background-color: transparent\; display: inline\; padding-bottom: 0px\; border-top-style: none\; border-bottom-width: 0px\; border-bottom-style: none\; border-top-width: 0px\; margin-bottom: 0px\; margin-top: 0px\; padding-top: 0px\; font-family: inherit\;" tabindex="0">#AATG2026</a></span></span></div>\n\n<div><span style="font-size:22px\;"><span style="font-family:tahoma\;">*For Individuals or companies who would like to know more about sponsorship opportunities\, including full tables or to purchase tickets outside of Eventbrite and bulk tickets\, please contact Kami Tupiak at Kami@GreatNews.Life or 219-707-5023.</span></span><br />\n&nbsp\;</div>\n\n<div><span style="font-size:22px\;"><span style="font-family:tahoma\;">CHECK OUT LAST YEAR&#39\;S EVENT HERE:&nbsp\;<a class="x1i10hfl xjbqb8w x1ejq31n x18oe1m7 x1sy0etr xstzfhl x972fbf x10w94by x1qhh985 x14e42zd x9f619 x1ypdohk xt0psk2 x3ct3a4 xdj266r x14z9mp xat24cr x1lziwak xexx8yu xyri2b x18d9i69 x1c1uobl x16tdsg8 x1hl2dhg xggy1nq x1a2a7pz xkrqix3 x1sur9pj x1fey0fg x1s688f" href="https://youtu.be/V9jMFgOF_3U?fbclid=IwZXh0bgNhZW0CMTAAYnJpZBExdGJ3MUh2dHJncU5UZ2duS3NydGMGYXBwX2lkEDIyMjAzOTE3ODgyMDA4OTIAAR65qupfPyUz8FUkbIcEzcmyaAtCEDIHB09mCI-YILtQG-7qEJn8QCN-He8V3A_aem_iYnOYaWnd-k7e9UCPZhuTg" rel="nofollow noreferrer" style="color: rgb(0\, 100\, 209)\; cursor: pointer\; text-decoration: none\; outline: none\; border-inline-width: 0px\; margin-inline: 0px\; text-align: inherit\; border-inline-style: none\; padding-inline: 0px\; -webkit-tap-highlight-color: transparent\; font-weight: 600\; list-style-type: none\; box-sizing: border-box\; touch-action: manipulation\; background-color: transparent\; display: inline\; padding-bottom: 0px\; border-top-style: none\; border-bottom-width: 0px\; border-bottom-style: none\; border-top-width: 0px\; margin-bottom: 0px\; margin-top: 0px\; padding-top: 0px\; font-family: inherit\;" tabindex="0" target="_blank">https://youtu.be/V9jMFgOF_3U</a></span></span><br />\n&nbsp\;</div>\n\n<div><span style="font-size:22px\;"><span style="font-family:tahoma\;">Our Nonprofit Sponsor\, Fighting Pretty\, is on a bold mission to ensure every woman facing cancer knows she is strong\, beautiful\, and never alone\, regardless of cancer type\, stage of treatment\, survivorship\, or thrivership. Cancer may challenge her body\, but it will not define her spirit. Through our empowering Strength &amp\; Beauty program\, events and community support we restore confidence\, dignity\, and hope when it&rsquo\;s needed most. Our goal is to support 500 women\, placing strength directly into their hands during one of the hardest seasons of their lives. Your donation is more than a gift. It is a reminder that she matters. Give today. Stand with her. Help us reach 500 women with strength\, beauty\, and support.</span></span></div>\n
LOCATION:William E. Urschel Pavilion 63 Lafayette St. Valparaiso\, IN 46383
UID:e.897.7411
SEQUENCE:3
DTSTAMP:20260423T112529Z
URL:https://members.crossroadschamber.org/events/details/all-about-the-girls-part-11-7411
END:VEVENT

END:VCALENDAR
