BEGIN:VCALENDAR
VERSION:2.0
PRODID:-//ChamberMaster//Event Calendar 2.0//EN
METHOD:PUBLISH
X-PUBLISHED-TTL:P3D
REFRESH-INTERVAL:P3D
CALSCALE:GREGORIAN
BEGIN:VEVENT
DTSTART:20220609T230000Z
DTEND:20220610T020000Z
X-MICROSOFT-CDO-ALLDAYEVENT:FALSE
SUMMARY:All About the Girls Part 7
DESCRIPTION:We are excited for the 7th Annual "All About the Girls" event! Join us June 9th\, 2022\, at the fabulous Central Park Plaza under the Urschel Pavilion in downtown Valparaiso! Make sure you solidify your ticket soon. In previous years\, this event has SOLD OUT!\n\nWe are so excited to bring the community together to celebrate these incredible women.\n\nIncluded with your ticket you will enjoy an open bar with beer\, wine\, and appetizers. Come listen\, network\, and have a great night with the Lifers and our influential presenters.\n\n#TrueGrit #AATG2022\n\n*Individuals or companies who would like to purchase tickets outside of Eventbrite at https://allaboutthegirlspart7.eventbrite.com\, full tables and bulk tickets are available. Sponsorship opportunities are also available. For more information contact Jenny Craig-Brown: Jenny@GreatNews.Life or 219-707-5023.
X-ALT-DESC;FMTTYPE=text/html:<span style="color:rgb(5\, 5\, 5)\; font-family:segoe ui historic\,segoe ui\,helvetica\,arial\,sans-serif\; font-size:15px">We are excited for the 7th Annual &quot\;All About the Girls&quot\; event! Join us June 9th\, 2022\, at the fabulous Central Park Plaza under the Urschel Pavilion in downtown Valparaiso! Make sure you solidify your ticket soon. In previous years\, this event has SOLD OUT!</span><br />\n<span style="color:rgb(5\, 5\, 5)\; font-family:segoe ui historic\,segoe ui\,helvetica\,arial\,sans-serif\; font-size:15px">We are so excited to bring the community together to celebrate these incredible women.</span><br />\n<span style="color:rgb(5\, 5\, 5)\; font-family:segoe ui historic\,segoe ui\,helvetica\,arial\,sans-serif\; font-size:15px">Included with your ticket you will enjoy an open bar with beer\, wine\, and appetizers. Come listen\, network\, and have a great night with the Lifers and our influential presenters.</span><br />\n<a class="oajrlxb2 g5ia77u1 qu0x051f esr5mh6w e9989ue4 r7d6kgcz rq0escxv nhd2j8a9 nc684nl6 p7hjln8o kvgmc6g5 cxmmr5t8 oygrvhab hcukyx3x jb3vyjys rz4wbd8a qt6c0cv9 a8nywdso i1ao9s8h esuyzwwr f1sip0of lzcic4wl gpro0wi8 oo9gr5id lrazzd5p" href="https://www.facebook.com/hashtag/truegrit?__eep__=6&amp\;__cft__[0]=AZUHJvLL82nTHMaASc1iOtQyE7oT9_rIe04tgE7BtfZhu41qzF1AM5I7higCGhhEPzQBAWI9ol_9HDGzNgaFZcs68X3hrIyQPk1xdJN0_LyUhdEfZn_7LM-f8fJa9KoxAOk&amp\;__tn__=q" style="color: var(--primary-text)\; cursor: pointer\; text-decoration-line: none\; outline: none\; list-style: none\; border-width: 0px\; border-style: initial\; border-color: initial\; padding: 0px\; margin: 0px\; touch-action: manipulation\; font-weight: 600\; display: inline\; -webkit-tap-highlight-color: transparent\; box-sizing: border-box\; font-family: &quot\;Segoe UI Historic&quot\;\, &quot\;Segoe UI&quot\;\, Helvetica\, Arial\, sans-serif\; font-size: 15px\;" tabindex="0">#TrueGrit</a><span style="color:rgb(5\, 5\, 5)\; font-family:segoe ui historic\,segoe ui\,helvetica\,arial\,sans-serif\; font-size:15px">&nbsp\;</span><a class="oajrlxb2 g5ia77u1 qu0x051f esr5mh6w e9989ue4 r7d6kgcz rq0escxv nhd2j8a9 nc684nl6 p7hjln8o kvgmc6g5 cxmmr5t8 oygrvhab hcukyx3x jb3vyjys rz4wbd8a qt6c0cv9 a8nywdso i1ao9s8h esuyzwwr f1sip0of lzcic4wl gpro0wi8 oo9gr5id lrazzd5p" href="https://www.facebook.com/hashtag/aatg2022?__eep__=6&amp\;__cft__[0]=AZUHJvLL82nTHMaASc1iOtQyE7oT9_rIe04tgE7BtfZhu41qzF1AM5I7higCGhhEPzQBAWI9ol_9HDGzNgaFZcs68X3hrIyQPk1xdJN0_LyUhdEfZn_7LM-f8fJa9KoxAOk&amp\;__tn__=q" style="color: var(--primary-text)\; cursor: pointer\; text-decoration-line: none\; outline: none\; list-style: none\; border-width: 0px\; border-style: initial\; border-color: initial\; padding: 0px\; margin: 0px\; touch-action: manipulation\; font-weight: 600\; display: inline\; -webkit-tap-highlight-color: transparent\; box-sizing: border-box\; font-family: &quot\;Segoe UI Historic&quot\;\, &quot\;Segoe UI&quot\;\, Helvetica\, Arial\, sans-serif\; font-size: 15px\;" tabindex="0">#AATG2022</a><br />\n<span style="color:rgb(5\, 5\, 5)\; font-family:segoe ui historic\,segoe ui\,helvetica\,arial\,sans-serif\; font-size:15px">*Individuals or companies who would like to purchase tickets outside of Eventbrite at&nbsp\;</span><a class="oajrlxb2 g5ia77u1 qu0x051f esr5mh6w e9989ue4 r7d6kgcz rq0escxv nhd2j8a9 nc684nl6 p7hjln8o kvgmc6g5 cxmmr5t8 oygrvhab hcukyx3x jb3vyjys rz4wbd8a qt6c0cv9 a8nywdso i1ao9s8h esuyzwwr f1sip0of lzcic4wl gpro0wi8 py34i1dx" href="https://allaboutthegirlspart7.eventbrite.com/?fbclid=IwAR3CKxU4u-gV6oqTdC9Nt_-ahFyWWHBYeKGhNRv_yW4bJ1TuvAN1Bsc8Ejw" rel="nofollow noopener" style="color: var(--blue-link)\; cursor: pointer\; text-decoration-line: none\; outline: none\; list-style: none\; border-width: 0px\; border-style: initial\; border-color: initial\; padding: 0px\; margin: 0px\; touch-action: manipulation\; display: inline\; -webkit-tap-highlight-color: transparent\; box-sizing: border-box\; font-family: &quot\;Segoe UI Historic&quot\;\, &quot\;Segoe UI&quot\;\, Helvetica\, Arial\, sans-serif\; font-size: 15px\;" tabindex="0" target="_blank">https://allaboutthegirlspart7.eventbrite.com</a><span style="color:rgb(5\, 5\, 5)\; font-family:segoe ui historic\,segoe ui\,helvetica\,arial\,sans-serif\; font-size:15px">\, full tables and bulk tickets are available. Sponsorship opportunities are also available. For more information contact Jenny Craig-Brown: Jenny@GreatNews.Life or 219-707-5023.</span>
LOCATION:William E. Urschel Pavilion: 70 Lafayette St\, Valparaiso\, IN\, United States\, Indiana
UID:e.897.4492
SEQUENCE:3
DTSTAMP:20260424T210615Z
URL:https://members.crossroadschamber.org/events/details/all-about-the-girls-part-7-4492
END:VEVENT

END:VCALENDAR
