BEGIN:VCALENDAR
VERSION:2.0
PRODID:-//ChamberMaster//Event Calendar 2.0//EN
METHOD:PUBLISH
X-PUBLISHED-TTL:P3D
REFRESH-INTERVAL:P3D
CALSCALE:GREGORIAN
BEGIN:VEVENT
DTSTART:20230615T200000Z
DTEND:20230615T230000Z
X-MICROSOFT-CDO-ALLDAYEVENT:FALSE
SUMMARY:Allegiant Fire Protection Grand Opening
DESCRIPTION:Join us to celebrate the grand opening of Allegiant Fire Protection's new Indiana location!\n\n\n\nMeet the team and enjoy giveaways\, outdoor games and complimentary refreshments. Catering by Smoke on The Water TexMex BBQ.
X-ALT-DESC;FMTTYPE=text/html:Join us to celebrate the grand opening of Allegiant Fire Protection&rsquo\;s new Indiana location!<br />\n<br />\nMeet the team and enjoy giveaways\, outdoor games and complimentary refreshments. Catering by Smoke on The Water TexMex BBQ.&nbsp\;
LOCATION:3505 Redbow Dr. Suite A Valparaiso\, IN
UID:e.897.5025
SEQUENCE:3
DTSTAMP:20260424T002250Z
URL:https://members.crossroadschamber.org/events/details/allegiant-fire-protection-grand-opening-5025
END:VEVENT

END:VCALENDAR
