BEGIN:VCALENDAR
VERSION:2.0
PRODID:-//ChamberMaster//Event Calendar 2.0//EN
METHOD:PUBLISH
X-PUBLISHED-TTL:P3D
REFRESH-INTERVAL:P3D
CALSCALE:GREGORIAN
BEGIN:VEVENT
DTSTART:20241009T140000Z
DTEND:20241009T150000Z
X-MICROSOFT-CDO-ALLDAYEVENT:FALSE
SUMMARY:Ambassador Committee Meeting
DESCRIPTION:The Ambassador Committee meets year-round on the 2nd Wednesday of the month @ 9am.\n\n\n\nAn ambassador for a chamber of commerce is a volunteer or appointed representative who serves as a goodwill liaison between the chamber and its members/businesses.\n\nThe role of a chamber ambassador is to promote and support the chamber's mission and activities while assisting members and their businesses in maximizing their chamber membership benefits.\n\nAmbassadors play a crucial role in fostering a sense of community among chamber members and helping them connect\, engage\, and grow their businesses. \n\n\n\nThe Ambassadors help promote Crossroads by attending ribbon cuttings\, business after hours and open houses. They help assist in public relations\, new member recruitment\, membership retention & volunteer at all the chamber events. \n\n\n\nIf this sounds like a committee you would like to be a part of please contact Nicki Angotti for more information! I'm happy to answer any questions you might have.
X-ALT-DESC;FMTTYPE=text/html:<span style="font-family: &quot\;courier new&quot\;\; font-size: 14px\;">The Ambassador Committee meets year-round on the 2nd Wednesday of the month @ 9am.</span><br style="font-family: &quot\;courier new&quot\;\; font-size: 14px\;" />\n<br style="font-family: &quot\;courier new&quot\;\; font-size: 14px\;" />\n<span style="font-family: &quot\;courier new&quot\;\; font-size: 14px\;">An ambassador for a chamber of commerce is a volunteer or appointed representative who serves as a goodwill liaison between the chamber and its members/businesses.</span><br style="font-family: &quot\;courier new&quot\;\; font-size: 14px\;" />\n<span style="font-family: &quot\;courier new&quot\;\; font-size: 14px\;">The role of a chamber ambassador is to promote and support the chamber&#39\;s mission and activities while assisting members and their businesses in maximizing their chamber membership benefits.</span><br style="font-family: &quot\;courier new&quot\;\; font-size: 14px\;" />\n<span style="font-family: &quot\;courier new&quot\;\; font-size: 14px\;">Ambassadors play a crucial role in fostering a sense of community among chamber members and helping them connect\, engage\, and grow their businesses.&nbsp\;</span><br style="font-family: &quot\;courier new&quot\;\; font-size: 14px\;" />\n<br style="font-family: &quot\;courier new&quot\;\; font-size: 14px\;" />\n<span style="font-family: &quot\;courier new&quot\;\; font-size: 14px\;">The Ambassadors help promote Crossroads by attending ribbon cuttings\, business after hours and open houses. They help assist in public relations\, new member recruitment\, membership retention &amp\; volunteer at all the chamber events.&nbsp\;<br />\n<br />\nIf this sounds like a committee you would like to be a part of please contact Nicki Angotti for more information! I&#39\;m happy to answer any questions you might have.&nbsp\;</span>
LOCATION:Crossroads Chamber Office 440 W. 84th Dr. Merrillville\, IN 46410 219.769.8180
UID:e.897.5094
SEQUENCE:3
DTSTAMP:20260420T195655Z
URL:https://members.crossroadschamber.org/events/details/ambassador-committee-meeting-10-09-2024-5094
END:VEVENT

END:VCALENDAR
