BEGIN:VCALENDAR
VERSION:2.0
PRODID:-//ChamberMaster//Event Calendar 2.0//EN
METHOD:PUBLISH
X-PUBLISHED-TTL:P3D
REFRESH-INTERVAL:P3D
CALSCALE:GREGORIAN
BEGIN:VEVENT
DTSTART:20250620T160000Z
DTEND:20250621T003000Z
X-MICROSOFT-CDO-ALLDAYEVENT:FALSE
SUMMARY:Annual Golf Outing to support In-Pact
DESCRIPTION:In-Pact is happy to announce its annual golf outing!  Join us at the Lakes of the Four Seasons Golf Course on Friday\, June 20th for a day of golf and the opportunity to win door prizes and golf competitions.  Registration begins at 11:00 am.  The 18-hole shotgun scramble will kick off at noon. \n\n\n\nIf you want to golf\, donate a prize or volunteer to help\, please email Sue Moreno:  smoreno@in-pact.org. \n\n\n\nFor registration\, donations or other information on the event\, look at our webpage: www.in-pact.org.
X-ALT-DESC;FMTTYPE=text/html:<span style="font-size:16px">In-Pact is happy to announce its annual golf outing!&nbsp\; Join us at the Lakes of the Four Seasons Golf Course on Friday\, June 20th for a day of golf and the opportunity to win door prizes and golf competitions.&nbsp\; Registration begins at 11:00 am.&nbsp\; The 18-hole shotgun scramble will kick off at noon.&nbsp\;<br />\n<br />\nIf you want to golf\, donate a prize or volunteer to help\, please email Sue Moreno:&nbsp\; smoreno@in-pact.org.&nbsp\;<br />\n<br />\nFor registration\, donations or other information on the event\, look at our webpage: www.in-pact.org.</span>
LOCATION:Lakes of the Four Seasons Golf Course 1056 Sunnyslope Drive\, Crown Point\, IN.
UID:e.897.7075
SEQUENCE:3
DTSTAMP:20260420T064454Z
URL:https://members.crossroadschamber.org/events/details/annual-golf-outing-to-support-in-pact-7075
END:VEVENT

END:VCALENDAR
