BEGIN:VCALENDAR
VERSION:2.0
PRODID:-//ChamberMaster//Event Calendar 2.0//EN
METHOD:PUBLISH
X-PUBLISHED-TTL:P3D
REFRESH-INTERVAL:P3D
CALSCALE:GREGORIAN
BEGIN:VEVENT
DTSTART:20230418T161500Z
DTEND:20230418T180000Z
X-MICROSOFT-CDO-ALLDAYEVENT:FALSE
SUMMARY:April 2023 Monthly Membership Lunch
DESCRIPTION:
X-ALT-DESC;FMTTYPE=text/html:
LOCATION:Gamba Ristorante 455 E. 84th Drive Merrillville\, IN 46410
UID:e.897.4856
SEQUENCE:3
DTSTAMP:20260424T040148Z
URL:https://members.crossroadschamber.org/events/details/april-2023-monthly-membership-lunch-4856
END:VEVENT

END:VCALENDAR
