BEGIN:VCALENDAR
VERSION:2.0
PRODID:-//ChamberMaster//Event Calendar 2.0//EN
METHOD:PUBLISH
X-PUBLISHED-TTL:P3D
REFRESH-INTERVAL:P3D
CALSCALE:GREGORIAN
BEGIN:VEVENT
DTSTART:20250415T161500Z
DTEND:20250415T180000Z
X-MICROSOFT-CDO-ALLDAYEVENT:FALSE
SUMMARY:April Membership Program
DESCRIPTION:Guest Speaker: \n\nPhil Taillon \n\nCEO of the South Shore Convention & Visitors Authority\n\n\n\nDon't forget to register for a Promotional "Get Promoted" Table $30 \n\nReceive a table with two chairs\, bring your promotional items for your business\, network with members and receive two minutes at the mic during the program.\n\n\n\nTable Sponsorship Available for $400\n\nTable Sponsor includes eight lunch reservations\, a reserved table in front of the room with company name on table and recognition at the mic.
X-ALT-DESC;FMTTYPE=text/html:<span style="font-size:22px\;"><span style="font-family:arial\;"><strong><span style="background-image: initial\; background-position: initial\; background-size: initial\; background-repeat: initial\; background-attachment: initial\; background-origin: initial\; background-clip: initial\;"><span style="color: black\;">Guest Speaker:&nbsp\;</span></span></strong><br />\nPhil Taillon&nbsp\;<br />\n<span style="color: rgba(0\, 0\, 0\, 0.9)\;">CEO of the South Shore Convention &amp\; Visitors Authority</span></span></span><br />\n<br />\n<span style="font-family: arial\;"><span style="font-size: 16px\;">Don&#39\;t forget to register for a&nbsp\;<strong>Promotional &ldquo\;Get Promoted&rdquo\; Table $30&nbsp\;</strong><br />\nReceive a table with two chairs\, bring your promotional items for your business\, network with members and receive two minutes at the mic during the program.</span></span><br />\n<br />\n<span style="font-size: 16px\;"><span style="font-family: arial\;"><strong>Table Sponsorship Available for $400</strong><br />\nTable Sponsor includes eight lunch reservations\, a reserved table in front of the room with company name on table and recognition at the mic.</span></span>
LOCATION:South Shore Convention and Visitors Authority 7770 Corinne Dr\, Hammond\, IN 46323
UID:e.897.6572
SEQUENCE:3
DTSTAMP:20260420T083041Z
URL:https://members.crossroadschamber.org/events/details/april-membership-program-6572
END:VEVENT

END:VCALENDAR
