BEGIN:VCALENDAR
VERSION:2.0
PRODID:-//ChamberMaster//Event Calendar 2.0//EN
METHOD:PUBLISH
X-PUBLISHED-TTL:P3D
REFRESH-INTERVAL:P3D
CALSCALE:GREGORIAN
BEGIN:VEVENT
DTSTART:20260513T170000Z
DTEND:20260513T174500Z
X-MICROSOFT-CDO-ALLDAYEVENT:FALSE
SUMMARY:Ask the Expert
DESCRIPTION:Ask the Expert \n\nExpert -  Steve Kalmar\, President 9140 digital\n\nModerator - James Taylor - Fidelity Trust Company\n\nSteve will provide insight into planning and staging your booth space at our upcoming Talk of the Region Business Expo
X-ALT-DESC;FMTTYPE=text/html:<strong>Ask the Expert&nbsp\;</strong><br />\nExpert -&nbsp\; Steve Kalmar\, President 9140 digital<br />\nModerator - James Taylor - Fidelity Trust Company<br />\nSteve will provide insight into planning and staging your booth space at our upcoming Talk of the Region Business Expo<br />\n&nbsp\;
LOCATION:Online Zoom linked provided with registration
UID:e.897.7339
SEQUENCE:3
DTSTAMP:20260419T163534Z
URL:https://members.crossroadschamber.org/events/details/ask-the-expert-05-13-2026-7339
END:VEVENT

END:VCALENDAR
