BEGIN:VCALENDAR
VERSION:2.0
PRODID:-//ChamberMaster//Event Calendar 2.0//EN
METHOD:PUBLISH
X-PUBLISHED-TTL:P3D
REFRESH-INTERVAL:P3D
CALSCALE:GREGORIAN
BEGIN:VEVENT
DTSTART:20260610T170000Z
DTEND:20260610T174500Z
X-MICROSOFT-CDO-ALLDAYEVENT:FALSE
SUMMARY:Ask the Expert
DESCRIPTION:Ask the Expert \n\nExpert -
X-ALT-DESC;FMTTYPE=text/html:<strong>Ask the Expert&nbsp\;</strong><br />\nExpert -&nbsp\;
LOCATION:Online Zoom linked provided with registration
UID:e.897.7340
SEQUENCE:3
DTSTAMP:20260419T200053Z
URL:https://members.crossroadschamber.org/events/details/ask-the-expert-06-10-2026-7340
END:VEVENT

END:VCALENDAR
