BEGIN:VCALENDAR
VERSION:2.0
PRODID:-//ChamberMaster//Event Calendar 2.0//EN
METHOD:PUBLISH
X-PUBLISHED-TTL:P3D
REFRESH-INTERVAL:P3D
CALSCALE:GREGORIAN
BEGIN:VEVENT
DTSTART:20250514T170000Z
DTEND:20250514T174500Z
X-MICROSOFT-CDO-ALLDAYEVENT:FALSE
SUMMARY:Ask the Expert
DESCRIPTION:Ask the Expert \n\nExpert -  Michele Kovac CPA guest speaker\n\nmoderated by James Taylor\, Fidelity National Title \n\nAre you a small business owner that wants to engage with the Chamber\, but can't make it to our events? This is your chance to stay connected and gain valuable insight into being a business owner.  Join Michele Kovac CPA to get your tax and accounting questions answered.
X-ALT-DESC;FMTTYPE=text/html:<strong>Ask the Expert&nbsp\;</strong><br />\nExpert -&nbsp\; Michele Kovac CPA guest speaker<br />\nmoderated by James Taylor\, Fidelity National Title&nbsp\;<br />\nAre you a small business owner that wants to engage with the Chamber\, but can&#39\;t make it to our events? This is your chance to stay connected and gain valuable insight into being a business owner.&nbsp\; Join Michele Kovac CPA to get your tax and accounting questions answered.<br />\n&nbsp\;
LOCATION:Online Zoom linked provided with registration
UID:e.897.7067
SEQUENCE:3
DTSTAMP:20260420T064103Z
URL:https://members.crossroadschamber.org/events/details/ask-the-expert-7067
END:VEVENT

END:VCALENDAR
