BEGIN:VCALENDAR
VERSION:2.0
PRODID:-//ChamberMaster//Event Calendar 2.0//EN
METHOD:PUBLISH
X-PUBLISHED-TTL:P3D
REFRESH-INTERVAL:P3D
CALSCALE:GREGORIAN
BEGIN:VEVENT
DTSTART:20251112T180000Z
DTEND:20251112T184500Z
X-MICROSOFT-CDO-ALLDAYEVENT:FALSE
SUMMARY:Ask the Expert
DESCRIPTION:Ask the Expert -Using Social Media to Promote Your Business!\n\nExpert -  Jenny Craig - Brown from GreatNews.Life\n\nmoderated by James Taylor\, Fidelity National Title
X-ALT-DESC;FMTTYPE=text/html:<strong>Ask the Expert -Using Social Media to Promote Your Business!</strong><br />\nExpert -&nbsp\; Jenny Craig - Brown from GreatNews.Life<br />\nmoderated by James Taylor\, Fidelity National Title&nbsp\;<br />\n<br />\n&nbsp\;
LOCATION:Online Zoom linked provided with registration
UID:e.897.7106
SEQUENCE:3
DTSTAMP:20260419T194449Z
URL:https://members.crossroadschamber.org/events/details/ask-the-expert-7106
END:VEVENT

END:VCALENDAR
