BEGIN:VCALENDAR
VERSION:2.0
PRODID:-//ChamberMaster//Event Calendar 2.0//EN
METHOD:PUBLISH
X-PUBLISHED-TTL:P3D
REFRESH-INTERVAL:P3D
CALSCALE:GREGORIAN
BEGIN:VEVENT
DTSTART:20250709T170000Z
DTEND:20250709T174500Z
X-MICROSOFT-CDO-ALLDAYEVENT:FALSE
SUMMARY:Ask the Expert - Effective Communication Negotiating to Customer Management
DESCRIPTION:Ask the Expert with Tom Krafft \n\nModerated by Jim Taylor\, Fidelity National Title \n\nGet ready as Tom delivers powerful communication strategies that will elevate your skills from mastering negotiations to building stronger customer relationships.
X-ALT-DESC;FMTTYPE=text/html:<strong>Ask the Expert with Tom Krafft&nbsp\;<br />\nModerated by Jim Taylor\, Fidelity National Title&nbsp\;</strong><br />\nGet ready as Tom delivers powerful communication strategies that will elevate your skills&mdash\;from mastering negotiations to building stronger customer relationships.<br />\n&nbsp\;
LOCATION:Online Zoom linked provided with registration
UID:e.897.7102
SEQUENCE:3
DTSTAMP:20260420T031724Z
URL:https://members.crossroadschamber.org/events/details/ask-the-expert-effective-communication-negotiating-to-customer-management-7102
END:VEVENT

END:VCALENDAR
