BEGIN:VCALENDAR
VERSION:2.0
PRODID:-//ChamberMaster//Event Calendar 2.0//EN
METHOD:PUBLISH
X-PUBLISHED-TTL:P3D
REFRESH-INTERVAL:P3D
CALSCALE:GREGORIAN
BEGIN:VEVENT
DTSTART:20251008T170000Z
DTEND:20251008T174500Z
X-MICROSOFT-CDO-ALLDAYEVENT:FALSE
SUMMARY:Ask the Expert - Financial Lending
DESCRIPTION:Ask the Expert - Financial Lending\n\nExpert -  Emma Hutchinson with the Regional Development Company will provide insight into lending for business owners\n\nmoderated by James Taylor\, Fidelity National Title
X-ALT-DESC;FMTTYPE=text/html:<strong>Ask the Expert - Financial Lending</strong><br />\nExpert -&nbsp\; Emma Hutchinson with the Regional Development Company will provide insight into lending for business owners<br />\nmoderated by James Taylor\, Fidelity National Title&nbsp\;<br />\n<br />\n<br />\n&nbsp\;
LOCATION:Online Zoom linked provided with registration
UID:e.897.7105
SEQUENCE:3
DTSTAMP:20260419T233103Z
URL:https://members.crossroadschamber.org/events/details/ask-the-expert-financial-lending-7105
END:VEVENT

END:VCALENDAR
