BEGIN:VCALENDAR
VERSION:2.0
PRODID:-//ChamberMaster//Event Calendar 2.0//EN
METHOD:PUBLISH
X-PUBLISHED-TTL:P3D
REFRESH-INTERVAL:P3D
CALSCALE:GREGORIAN
BEGIN:VEVENT
DTSTART:20250813T170000Z
DTEND:20250813T174500Z
X-MICROSOFT-CDO-ALLDAYEVENT:FALSE
SUMMARY:Ask the Expert - Health Insurance
DESCRIPTION:Ask the Expert \n\nExpert -  Carla Cohen\, UnitedHealthcare\n\nmoderated by James Taylor\, Fidelity National Title \n\nCarla will offer an in-depth look at the exclusive insurance programs available to Crossroads Chamber members through UnitedHealthcare\, highlighting key benefits and opportunities for savings.\n\n\n\n\n\nCarla will explain health insurance and what is available to you and your employees by being a chamber member
X-ALT-DESC;FMTTYPE=text/html:<strong>Ask the Expert&nbsp\;</strong><br />\nExpert -&nbsp\; Carla Cohen\, UnitedHealthcare<br />\nmoderated by James Taylor\, Fidelity National Title&nbsp\;<br />\nCarla will offer an in-depth look at the exclusive insurance programs available to Crossroads Chamber members through UnitedHealthcare\, highlighting key benefits and opportunities for savings.<br />\n<br />\n<br />\nCarla will explain health insurance and what is available to you and your employees by being a chamber member<br />\n<br />\n&nbsp\;
LOCATION:Online Zoom linked provided with registration
UID:e.897.7104
SEQUENCE:3
DTSTAMP:20260420T012007Z
URL:https://members.crossroadschamber.org/events/details/ask-the-expert-health-insurance-7104
END:VEVENT

END:VCALENDAR
