BEGIN:VCALENDAR
VERSION:2.0
PRODID:-//ChamberMaster//Event Calendar 2.0//EN
METHOD:PUBLISH
X-PUBLISHED-TTL:P3D
REFRESH-INTERVAL:P3D
CALSCALE:GREGORIAN
BEGIN:VEVENT
DTSTART:20250910T170000Z
DTEND:20250910T174500Z
X-MICROSOFT-CDO-ALLDAYEVENT:FALSE
SUMMARY:Ask the Expert - How to Register Your Business
DESCRIPTION:Ask the Expert \n\nExpert -  Joanne Tica from Indiana Small Business Development Center (ISBDC)\n\nmoderated by James Taylor\, Fidelity National Title \n\nJoin us as Joanne will focus on the importance of proper business registration\, including certifications such as WBE and MBE.
X-ALT-DESC;FMTTYPE=text/html:<strong>Ask the Expert&nbsp\;</strong><br />\nExpert -&nbsp\; Joanne Tica from Indiana Small Business Development Center (ISBDC)<br />\nmoderated by James Taylor\, Fidelity National Title&nbsp\;<br />\nJoin us as Joanne will focus on the importance of proper business registration\, including certifications such as WBE and MBE.&nbsp\;&nbsp\;<br />\n<br />\n<br />\n&nbsp\;
LOCATION:Online Zoom linked provided with registration
UID:e.897.7103
SEQUENCE:3
DTSTAMP:20260419T234700Z
URL:https://members.crossroadschamber.org/events/details/ask-the-expert-how-to-register-your-business-7103
END:VEVENT

END:VCALENDAR
