BEGIN:VCALENDAR
VERSION:2.0
PRODID:-//ChamberMaster//Event Calendar 2.0//EN
METHOD:PUBLISH
X-PUBLISHED-TTL:P3D
REFRESH-INTERVAL:P3D
CALSCALE:GREGORIAN
BEGIN:VEVENT
DTSTART:20250611T170000Z
DTEND:20250611T174500Z
X-MICROSOFT-CDO-ALLDAYEVENT:FALSE
SUMMARY:Ask the Expert -Website do's and don't and the impact on search engine optimization
DESCRIPTION:Ask the Expert with Joe Skibbie\, Director of JRS Mar/ Com\n\nModerated by Jim Taylor with Fidelity National  Title \n\nTopic is Website do's and don't and the impact on search engine optimization
X-ALT-DESC;FMTTYPE=text/html:<strong>Ask the Expert with Joe Skibbie\, Director of JRS Mar/ Com<br />\nModerated by Jim Taylor with Fidelity National&nbsp\; Title&nbsp\;<br />\nTopic is Website do&#39\;s and don&#39\;t and the impact on search engine optimization</strong><br />\n<br />\n&nbsp\;
LOCATION:Online Zoom linked provided with registration
UID:e.897.7100
SEQUENCE:3
DTSTAMP:20260420T050001Z
URL:https://members.crossroadschamber.org/events/details/ask-the-expert-website-do-s-and-don-t-and-the-impact-on-search-engine-optimization-7100
END:VEVENT

END:VCALENDAR
