BEGIN:VCALENDAR
VERSION:2.0
PRODID:-//ChamberMaster//Event Calendar 2.0//EN
METHOD:PUBLISH
X-PUBLISHED-TTL:P3D
REFRESH-INTERVAL:P3D
CALSCALE:GREGORIAN
BEGIN:VEVENT
DTSTART:20220816T161500Z
DTEND:20220816T180000Z
X-MICROSOFT-CDO-ALLDAYEVENT:FALSE
SUMMARY:August 2022 Monthly Membership Luncheon
DESCRIPTION:Crossroads Monthly Membership Luncheon\n\nGuest Speaker: Anthony B. Sindone\, M.A. PNW Clinical Associate Professor of Finance and Economic Development
X-ALT-DESC;FMTTYPE=text/html:Crossroads Monthly Membership Luncheon<br />\nGuest Speaker: Anthony B. Sindone\, M.A. PNW Clinical Associate Professor of Finance and Economic Development
LOCATION:The Design Barn 312 North Madison Street Hebron\, IN 46341
UID:e.897.4522
SEQUENCE:3
DTSTAMP:20260424T175146Z
URL:https://members.crossroadschamber.org/events/details/august-2022-monthly-membership-luncheon-4522
END:VEVENT

END:VCALENDAR
