BEGIN:VCALENDAR
VERSION:2.0
PRODID:-//ChamberMaster//Event Calendar 2.0//EN
METHOD:PUBLISH
X-PUBLISHED-TTL:P3D
REFRESH-INTERVAL:P3D
CALSCALE:GREGORIAN
BEGIN:VEVENT
DTSTART:20230815T161500Z
DTEND:20230815T180000Z
X-MICROSOFT-CDO-ALLDAYEVENT:FALSE
SUMMARY:August 2023 Monthly Membership Lunch
DESCRIPTION:Guest Speaker\n\nAdam O'Doherty\,\n\nPresident/CEO United Way
X-ALT-DESC;FMTTYPE=text/html:Guest Speaker<br />\nAdam O&rsquo\;Doherty\,<br />\nPresident/CEO United Way
LOCATION:The Design Barn 312 N Madison St\, Hebron\, IN 46341
UID:e.897.5030
SEQUENCE:3
DTSTAMP:20260423T205018Z
URL:https://members.crossroadschamber.org/events/details/august-2023-monthly-membership-lunch-5030
END:VEVENT

END:VCALENDAR
