BEGIN:VCALENDAR
VERSION:2.0
PRODID:-//ChamberMaster//Event Calendar 2.0//EN
METHOD:PUBLISH
X-PUBLISHED-TTL:P3D
REFRESH-INTERVAL:P3D
CALSCALE:GREGORIAN
BEGIN:VEVENT
DTSTART:20250819T161500Z
DTEND:20250819T180000Z
X-MICROSOFT-CDO-ALLDAYEVENT:FALSE
SUMMARY:August Monthly Membership Program
DESCRIPTION:"Practical AI tools to help improve your business" \n\n\n\nGuest Speaker: \n\nMark Schilling \n\nCEO of Schilling IT \n\n\n\n\n\n\n\nDon't forget to register for a Promotional "Get Promoted" Table $30 \n\nReceive a table with two chairs\, bring your promotional items for your business\, network with members and receive two minutes at the mic during the program.\n\n\n\nTable Sponsorship Available for $400\n\nTable Sponsor includes eight lunch reservations\, a reserved table in front of the room with company name on table and recognition at the mic.
X-ALT-DESC;FMTTYPE=text/html:<strong><span style="font-size:28px\;"><span style="font-family: aptos\, sans-serif\;">&ldquo\;</span><span style="font-family: aptos\, sans-serif\; color: black\;">Practical AI tools to help improve your business</span><span style="font-family: aptos\, sans-serif\;">&rdquo\;&nbsp\;</span></span></strong><br />\n<br />\n<span style="font-size:18px\;"><strong><span style="background-image: initial\; background-position: initial\; background-size: initial\; background-repeat: initial\; background-attachment: initial\; background-origin: initial\; background-clip: initial\;"><span style="color: black\;">Guest Speaker:&nbsp\;<br />\nMark Schilling&nbsp\;<br />\nCEO of Schilling IT&nbsp\;</span></span></strong></span><br />\n<br />\n<br />\n<br />\n<span style="font-family: arial\;"><span style="font-size: 16px\;">Don&#39\;t forget to register for a&nbsp\;<strong>Promotional &ldquo\;Get Promoted&rdquo\; Table $30&nbsp\;</strong><br />\nReceive a table with two chairs\, bring your promotional items for your business\, network with members and receive two minutes at the mic during the program.</span></span><br />\n<br />\n<span style="font-size: 16px\;"><span style="font-family: arial\;"><strong>Table Sponsorship Available for $400</strong><br />\nTable Sponsor includes eight lunch reservations\, a reserved table in front of the room with company name on table and recognition at the mic.</span></span>
LOCATION:White Hawk Country Club 1001 White Hawk Dr Crown Point\, IN 46307
UID:e.897.6576
SEQUENCE:3
DTSTAMP:20260420T024857Z
URL:https://members.crossroadschamber.org/events/details/august-monthly-membership-program-6576
END:VEVENT

END:VCALENDAR
