BEGIN:VCALENDAR
VERSION:2.0
PRODID:-//ChamberMaster//Event Calendar 2.0//EN
METHOD:PUBLISH
X-PUBLISHED-TTL:P3D
REFRESH-INTERVAL:P3D
CALSCALE:GREGORIAN
BEGIN:VEVENT
DTSTART:20241030T210000Z
DTEND:20241030T230000Z
X-MICROSOFT-CDO-ALLDAYEVENT:FALSE
SUMMARY:BAH- Sharper Business Solutions
DESCRIPTION:Join us for a Sharper Business Solutions Business After Hours.\n\n\n\nBusiness after-hours event is a welcoming space for networking and growth\, fostering new partnerships and strengthening existing relationships among professionals from diverse industries. There will be light appetizers and refreshments.\n\n\n\nFree Digital Headshot for all who attend
X-ALT-DESC;FMTTYPE=text/html:<span class="OYPEnA font-feature-liga-off font-feature-clig-off font-feature-calt-off text-decoration-none text-strikethrough-none" style="box-sizing: border-box\; outline: 0px\; font-family: Arial\, Helvetica\, sans-serif\; font-size: 20px\; color: rgb(0\, 0\, 0)\; font-kerning: none\;">Join us for a Sharper Business Solutions Business After Hours.</span><br style="box-sizing: border-box\; color: rgb(102\, 102\, 102)\; font-family: Arial\, Helvetica\, sans-serif\; font-size: 20px\;" />\n<br style="box-sizing: border-box\; color: rgb(102\, 102\, 102)\; font-family: Arial\, Helvetica\, sans-serif\; font-size: 20px\;" />\n<span class="OYPEnA font-feature-liga-off font-feature-clig-off font-feature-calt-off text-decoration-none text-strikethrough-none" style="box-sizing: border-box\; font-family: Arial\, Helvetica\, sans-serif\; font-size: 20px\; color: rgb(0\, 0\, 0)\; font-kerning: none\;">Business after-hours event is a welcoming space for networking and growth\, fostering new partnerships and strengthening existing relationships among professionals from diverse industries. There will be light appetizers and refreshments.<br />\n<br />\nFree Digital Headshot for all who attend&nbsp\;</span>
LOCATION:Sharper Studios 306 W Lincoln HWY Schererville
UID:e.897.6465
SEQUENCE:3
DTSTAMP:20260420T181114Z
URL:https://members.crossroadschamber.org/events/details/bah-sharper-business-solutions-6465
END:VEVENT

END:VCALENDAR
