BEGIN:VCALENDAR
VERSION:2.0
PRODID:-//ChamberMaster//Event Calendar 2.0//EN
METHOD:PUBLISH
X-PUBLISHED-TTL:P3D
REFRESH-INTERVAL:P3D
CALSCALE:GREGORIAN
BEGIN:VEVENT
DTSTART:20251117T150000Z
DTEND:20251117T230000Z
X-MICROSOFT-CDO-ALLDAYEVENT:FALSE
SUMMARY:Basketball League Registration
DESCRIPTION:Slam-dunk fun awaits! Our basketball league is the perfect way for your child to build essential skills and stay active this winter! Participants will master the fundamentals of basketball\, develop coordination\, and learn the importance of working together. Whether your child is brand new to the game or ready to sharpen their skills\, our league offers a supportive and energetic environment to build teamwork\, self-confidence\, and lasting friendships.
X-ALT-DESC;FMTTYPE=text/html:<strong>Slam-dunk fun awaits!</strong> Our basketball league is the perfect way for your child to build essential skills and stay active this winter! Participants will master the fundamentals of basketball\, develop coordination\, and learn the importance of working together. Whether your child is brand new to the game or ready to sharpen their skills\, our league offers a supportive and energetic environment to build teamwork\, self-confidence\, and lasting friendships.
LOCATION:
UID:e.897.7268
SEQUENCE:3
DTSTAMP:20260419T194854Z
URL:https://members.crossroadschamber.org/events/details/basketball-league-registration-11-17-2025-7268
END:VEVENT

END:VCALENDAR
