BEGIN:VCALENDAR
VERSION:2.0
PRODID:-//ChamberMaster//Event Calendar 2.0//EN
METHOD:PUBLISH
X-PUBLISHED-TTL:P3D
REFRESH-INTERVAL:P3D
CALSCALE:GREGORIAN
BEGIN:VEVENT
DTSTART:20250314T220000Z
DTEND:20250315T000000Z
X-MICROSOFT-CDO-ALLDAYEVENT:FALSE
SUMMARY:BEACHY CHARCUTERIE BOARD
DESCRIPTION:Create Your Own Beachy Charcuterie Board with Beautified Treasures!\n\nJoin us at The HUB NWI on Friday\, March 14\, 2025\, at 5:00 PM for a hands-on creative experience!\n\nUnder the expert guidance of Tricia\, you'll design a stunning beach-themed charcuterie board\, perfect for serving up coastal vibes at your next gathering or a relaxing afternoon at the Dunes. Choose between a round or rectangular cutting board\, and make it truly one-of-a-kind with an optional custom laser-engraved monogram before adding your epoxy resin accents for a gorgeous ocean-inspired finish.\n\nSpaces are limited\, so grab your ticket today!
X-ALT-DESC;FMTTYPE=text/html:<p><strong>Create Your Own Beachy Charcuterie Board with Beautified Treasures!</strong></p>\n\n<p>Join us at&nbsp\;<strong>The HUB NWI</strong>&nbsp\;on&nbsp\;<strong>Friday\, March 14\, 2025\, at 5:00 PM</strong>&nbsp\;for a hands-on creative experience!</p>\n\n<p>Under the expert guidance of&nbsp\;<strong>Tricia</strong>\, you&#39\;ll design a stunning&nbsp\;<strong>beach-themed charcuterie board</strong>\, perfect for serving up coastal vibes at your next gathering&mdash\;or a relaxing afternoon at the Dunes. Choose between a&nbsp\;<strong>round or rectangular cutting board</strong>\, and make it truly one-of-a-kind with an optional&nbsp\;<strong>custom laser-engraved monogram</strong>&nbsp\;before adding your&nbsp\;<strong>epoxy resin accents</strong>&nbsp\;for a gorgeous ocean-inspired finish.</p>\n\n<p><strong>Spaces are limited\, so grab your ticket today!</strong></p>\n
LOCATION:The Hub NWI 676 W Division Rd\, Hebron\, IN 46341
UID:e.897.6648
SEQUENCE:3
DTSTAMP:20260420T101915Z
URL:https://members.crossroadschamber.org/events/details/beachy-charcuterie-board-6648
END:VEVENT

END:VCALENDAR
