BEGIN:VCALENDAR
VERSION:2.0
PRODID:-//ChamberMaster//Event Calendar 2.0//EN
METHOD:PUBLISH
X-PUBLISHED-TTL:P3D
REFRESH-INTERVAL:P3D
CALSCALE:GREGORIAN
BEGIN:VEVENT
DTSTART:20240502T153000Z
DTEND:20240502T193000Z
X-MICROSOFT-CDO-ALLDAYEVENT:FALSE
SUMMARY:Biz Pulse Check
DESCRIPTION:Get your business questions answered by meeting individually with representatives from SCORE\, ISBDC\, BIZHUB and many more.
X-ALT-DESC;FMTTYPE=text/html:Get your business questions answered by meeting individually with representatives from SCORE\, ISBDC\, BIZHUB and many more.
LOCATION:Community Room at Crossroads Chamber 440 W 84th Dr Merrillville\, IN
UID:e.897.6242
SEQUENCE:3
DTSTAMP:20260421T053927Z
URL:https://members.crossroadschamber.org/events/details/biz-pulse-check-6242
END:VEVENT

END:VCALENDAR
