BEGIN:VCALENDAR
VERSION:2.0
PRODID:-//ChamberMaster//Event Calendar 2.0//EN
METHOD:PUBLISH
X-PUBLISHED-TTL:P3D
REFRESH-INTERVAL:P3D
CALSCALE:GREGORIAN
BEGIN:VEVENT
DTSTART:20250509T140000Z
DTEND:20250509T160000Z
X-MICROSOFT-CDO-ALLDAYEVENT:FALSE
SUMMARY:Biz Pulse Check
DESCRIPTION:Do you have questions about running your business?  Are you looking for people to help you organize your business?  Do you have a business plan?  Get these along with any other questions answered by meeting with industry experts on funding\, marketing\, planning and healthcare.
X-ALT-DESC;FMTTYPE=text/html:Do you have questions about running your business?&nbsp\; Are you looking for people to help you organize your business?&nbsp\; Do you have a business plan?&nbsp\; Get these along with any other questions answered by meeting with industry experts on funding\, marketing\, planning and healthcare.&nbsp\;&nbsp\;
LOCATION:Crossroads Community Room 440 W 84th Dr Merrillville\, IN
UID:e.897.7066
SEQUENCE:3
DTSTAMP:20260420T064151Z
URL:https://members.crossroadschamber.org/events/details/biz-pulse-check-7066
END:VEVENT

END:VCALENDAR
