BEGIN:VCALENDAR
VERSION:2.0
PRODID:-//ChamberMaster//Event Calendar 2.0//EN
METHOD:PUBLISH
X-PUBLISHED-TTL:P3D
REFRESH-INTERVAL:P3D
CALSCALE:GREGORIAN
BEGIN:VEVENT
DTSTART:20241003T153000Z
DTEND:20241003T193000Z
X-MICROSOFT-CDO-ALLDAYEVENT:FALSE
SUMMARY:Biz Pulse Year End Wrap Up
DESCRIPTION:Get your business questions answered by meeting individually with representatives from SCORE\, ISBDC\, BIZHUB\, THRYV\, Chase Lowden Financial Advisor\, Michele Kovac CPA\, RDC and many more.
X-ALT-DESC;FMTTYPE=text/html:Get your business questions answered by meeting individually with representatives from SCORE\, ISBDC\, BIZHUB\, THRYV\, Chase Lowden Financial Advisor\, Michele Kovac CPA\, RDC and many more.
LOCATION:Community Room at Crossroads Chamber 440 W 84th Dr Merrillville\, IN
UID:e.897.6438
SEQUENCE:3
DTSTAMP:20260420T181222Z
URL:https://members.crossroadschamber.org/events/details/biz-pulse-year-end-wrap-up-6438
END:VEVENT

END:VCALENDAR
