BEGIN:VCALENDAR
VERSION:2.0
PRODID:-//ChamberMaster//Event Calendar 2.0//EN
METHOD:PUBLISH
X-PUBLISHED-TTL:P3D
REFRESH-INTERVAL:P3D
CALSCALE:GREGORIAN
BEGIN:VEVENT
DTSTART:20251031T160000Z
DTEND:20251031T170000Z
X-MICROSOFT-CDO-ALLDAYEVENT:FALSE
SUMMARY:Books a Million Ribbon Cutting
DESCRIPTION:You're Invited!\n\n\n\nJoin us as we welcome Books a Million to their new location with a Ribbon Cutting and Open House celebration!\n\n\n\n  Location: 2008 E. 80th Ave. Merrillville\n\n   Date: 10/31/2025\n\n  Open House: 11:00 AM   12:00 PM\n\n   Ribbon Cutting: 11:30 AM\n\n\n\nCome out to show your support for one of our newest Crossroads Chamber members and help us celebrate continued growth in Northwest Indiana's business community.\n\n\n\nWe look forward to seeing you there!
X-ALT-DESC;FMTTYPE=text/html:<span style="font-size:20px\;"><strong>You&#39\;re Invited!</strong><br />\n<br />\nJoin us as we welcome<strong> Books a Million </strong>to their new location&nbsp\;with a Ribbon Cutting and Open House celebration!<br />\n<br />\n<span style="font-family:segoe ui emoji\,sans-serif\;">&#128205\;</span> <strong>Location:</strong>&nbsp\;2008 E. 80th Ave. Merrillville<br />\n<span style="font-family:segoe ui emoji\,sans-serif\;">&#128467\;&#65039\;</span> <strong>Date:</strong>&nbsp\;10/31/2025<br />\n<span style="font-family:segoe ui emoji\,sans-serif\;">&#128347\;</span> <strong>Open House:</strong> 11:00 AM &ndash\; 12:00 PM<br />\n<span style="font-family:segoe ui emoji\,sans-serif\;">&#9986\;&#65039\;</span> <strong>Ribbon Cutting:</strong> 11:30 AM<br />\n<br />\nCome out to show your support for one of our newest <strong>Crossroads Chamber members</strong> and help us celebrate continued growth in <strong>Northwest Indiana&rsquo\;s business community</strong>.<br />\n<br />\nWe look forward to seeing you there!</span>
LOCATION:2008 E. 80th Ave Merrillville\, IN
UID:e.897.7205
SEQUENCE:3
DTSTAMP:20260419T233134Z
URL:https://members.crossroadschamber.org/events/details/books-a-million-ribbon-cutting-7205
END:VEVENT

END:VCALENDAR
